BEGIN:VCALENDAR
VERSION:2.0
PRODID:-//Volg de rode schoentjes - ECPv6.15.20//NONSGML v1.0//EN
CALSCALE:GREGORIAN
METHOD:PUBLISH
X-WR-CALNAME:Volg de rode schoentjes
X-ORIGINAL-URL:https://volgderodeschoentjes.nu
X-WR-CALDESC:Evenementen voor Volg de rode schoentjes
REFRESH-INTERVAL;VALUE=DURATION:PT1H
X-Robots-Tag:noindex
X-PUBLISHED-TTL:PT1H
BEGIN:VTIMEZONE
TZID:Europe/Amsterdam
BEGIN:DAYLIGHT
TZOFFSETFROM:+0100
TZOFFSETTO:+0200
TZNAME:CEST
DTSTART:20180325T010000
END:DAYLIGHT
BEGIN:STANDARD
TZOFFSETFROM:+0200
TZOFFSETTO:+0100
TZNAME:CET
DTSTART:20181028T010000
END:STANDARD
BEGIN:DAYLIGHT
TZOFFSETFROM:+0100
TZOFFSETTO:+0200
TZNAME:CEST
DTSTART:20190331T010000
END:DAYLIGHT
BEGIN:STANDARD
TZOFFSETFROM:+0200
TZOFFSETTO:+0100
TZNAME:CET
DTSTART:20191027T010000
END:STANDARD
BEGIN:DAYLIGHT
TZOFFSETFROM:+0100
TZOFFSETTO:+0200
TZNAME:CEST
DTSTART:20200329T010000
END:DAYLIGHT
BEGIN:STANDARD
TZOFFSETFROM:+0200
TZOFFSETTO:+0100
TZNAME:CET
DTSTART:20201025T010000
END:STANDARD
END:VTIMEZONE
BEGIN:VEVENT
DTSTART;TZID=Europe/Amsterdam:20190804T150000
DTEND;TZID=Europe/Amsterdam:20190804T183000
DTSTAMP:20260423T144421
CREATED:20181220T171101Z
LAST-MODIFIED:20181220T171149Z
UID:209298-1564930800-1564943400@volgderodeschoentjes.nu
SUMMARY:Zondagmiddag – Aquatrekking
DESCRIPTION:Zondagmiddag – Aquatrekking.\nIedere zondagmiddag in juli en augustus. \nVolg de rode schoentjes en ga mee op “Aquatrekking”.\nEen leuke en frisse manier om de heuvelachtige omgeving\nrondom het meer van Bolsena te leren kennen.\nWe lopen op blote voeten of waterschoenen door het water.\nPuur natuur. Soms spannend\, maar met heel veel fun!\nBij de waterval kun je zwemmen of in het water springen. Superleuk. \nDeelname eigen risico.\nGids: Mariët Bloemendal.\nMeenemen van voldoende drinken en wat te eten.\nDenk aan bescherming tegen zon en badkleding.\nKosten vanmiddag: Kinderen € 15 p/p\nVanaf 18 jaar € 17\,50 p/p\nVerzamelen om 15.00 uur bij de grote parkeerplaats (markt) in Bolsena!
URL:https://volgderodeschoentjes.nu/agenda/zondagmiddag-aquatrekking-2/
LOCATION:Bolsena\, Bolsena\, Italië
CATEGORIES:Zomeratelier,Evenement
ATTACH;FMTTYPE=image/jpeg:https://volgderodeschoentjes.nu/wp-content/uploads/2016/12/waterfal-volg-de-rode-schoentjes-e1543754052437.jpg
ORGANIZER;CN="Volgderodeschoentjes":MAILTO:info@volgderodeschoentjes.nu
END:VEVENT
BEGIN:VEVENT
DTSTART;TZID=Europe/Amsterdam:20190805T090000
DTEND;TZID=Europe/Amsterdam:20190805T143000
DTSTAMP:20260423T144421
CREATED:20181220T174750Z
LAST-MODIFIED:20181220T174814Z
UID:209321-1564995600-1565015400@volgderodeschoentjes.nu
SUMMARY:Wandeldag Vitozza en waterval Italie
DESCRIPTION:Data: 8 en 22 juli. 5 en 20 augustus 2019.\nDuur: 3\,5 – 4  uur.\nVertrek: 09.00 uur. Parkeerplaats Bolsena.\nKosten/costare: € 35\,00 P/p inclusief vervoer.\nWandelbegeleiding: Mariët Bloemendal \nWe wandelen vandaag vanaf het dorpje St. Quirico door een prachtig gebied. We volgen de hoge en lange riffen van Vitozza\, waarin vele holen zijn uitgehakt uit de tijd van de Etrusken.\nWe bezoeken en rusten uit bij de waterval en bron van het riviertje de Lente.\nVoor alle wandelingen:\nDeelname eigen risico.\nMeenemen lunchpakket en voldoende drinken.\nGoede loopschoenen verplicht (denk aan bescherming tegen zon en regen)
URL:https://volgderodeschoentjes.nu/agenda/wandeldag-vitozza-en-waterval-italie-3/
LOCATION:Bolsena\, Bolsena\, Italië
CATEGORIES:Zomeratelier,Aktief
ATTACH;FMTTYPE=image/jpeg:https://volgderodeschoentjes.nu/wp-content/uploads/2016/12/Vitozza-e1543754230559.jpg
ORGANIZER;CN="Volgderodeschoentjes":MAILTO:info@volgderodeschoentjes.nu
END:VEVENT
BEGIN:VEVENT
DTSTART;TZID=Europe/Amsterdam:20190805T090000
DTEND;TZID=Europe/Amsterdam:20190805T143000
DTSTAMP:20260423T144421
CREATED:20181220T173953Z
LAST-MODIFIED:20181220T174514Z
UID:209318-1564995600-1565015400@volgderodeschoentjes.nu
SUMMARY:Wandeldag Vitozza en waterval Italie
DESCRIPTION:Data: 8 en 22 juli. 5 en 20 augustus 2019.\nDuur: 3\,5 – 4  uur.\nVertrek: 09.00 uur. Parkeerplaats Bolsena.\nKosten/costare: € 35\,00 P/p inclusief vervoer.\nWandelbegeleiding: Mariët Bloemendal \nWe wandelen vandaag vanaf het dorpje St. Quirico door een prachtig gebied. We volgen de hoge en lange riffen van Vitozza\, waarin vele holen zijn uitgehakt uit de tijd van de Etrusken.\nWe bezoeken en rusten uit bij de waterval en bron van het riviertje de Lente.\nVoor alle wandelingen:\nDeelname eigen risico.\nMeenemen lunchpakket en voldoende drinken.\nGoede loopschoenen verplicht (denk aan bescherming tegen zon en regen)
URL:https://volgderodeschoentjes.nu/agenda/wandeldag-vitozza-en-waterval-italie-2/
LOCATION:Bolsena\, Bolsena\, Italië
CATEGORIES:Zomeratelier,Aktief
ATTACH;FMTTYPE=image/jpeg:https://volgderodeschoentjes.nu/wp-content/uploads/2016/12/Vitozza-e1543754230559.jpg
ORGANIZER;CN="Volgderodeschoentjes":MAILTO:info@volgderodeschoentjes.nu
END:VEVENT
BEGIN:VEVENT
DTSTART;TZID=Europe/Amsterdam:20190811T150000
DTEND;TZID=Europe/Amsterdam:20190811T183000
DTSTAMP:20260423T144421
CREATED:20181220T171217Z
LAST-MODIFIED:20181220T171319Z
UID:209300-1565535600-1565548200@volgderodeschoentjes.nu
SUMMARY:Aqua trekking Bolsena Italie
DESCRIPTION:Zondagmiddag – Aquatrekking.\nIedere zondagmiddag in juli en augustus. \nVolg de rode schoentjes en ga mee op “Aquatrekking”.\nEen leuke en frisse manier om de heuvelachtige omgeving\nrondom het meer van Bolsena te leren kennen.\nWe lopen op blote voeten of waterschoenen door het water.\nPuur natuur. Soms spannend\, maar met heel veel fun!\nBij de waterval kun je zwemmen of in het water springen. Superleuk. \nDeelname eigen risico.\nGids: Mariët Bloemendal.\nMeenemen van voldoende drinken en wat te eten.\nDenk aan bescherming tegen zon en badkleding.\nKosten vanmiddag: Kinderen € 15 p/p\nVanaf 18 jaar € 17\,50 p/p\nVerzamelen om 15.00 uur bij de grote parkeerplaats (markt) in Bolsena!
URL:https://volgderodeschoentjes.nu/agenda/aqua-trekking-bolsena-italie-3/
LOCATION:Bolsena\, Bolsena\, Italië
CATEGORIES:Zomeratelier,Evenement
ATTACH;FMTTYPE=image/jpeg:https://volgderodeschoentjes.nu/wp-content/uploads/2016/12/waterfal-volg-de-rode-schoentjes-e1543754052437.jpg
ORGANIZER;CN="Volgderodeschoentjes":MAILTO:info@volgderodeschoentjes.nu
END:VEVENT
BEGIN:VEVENT
DTSTART;TZID=Europe/Amsterdam:20190818T150000
DTEND;TZID=Europe/Amsterdam:20190818T183000
DTSTAMP:20260423T144421
CREATED:20181220T171415Z
LAST-MODIFIED:20181220T171513Z
UID:209302-1566140400-1566153000@volgderodeschoentjes.nu
SUMMARY:Zondagmiddag – Aquatrekking
DESCRIPTION:Zondagmiddag – Aquatrekking.\nIedere zondagmiddag in juli en augustus. \nVolg de rode schoentjes en ga mee op “Aquatrekking”.\nEen leuke en frisse manier om de heuvelachtige omgeving\nrondom het meer van Bolsena te leren kennen.\nWe lopen op blote voeten of waterschoenen door het water.\nPuur natuur. Soms spannend\, maar met heel veel fun!\nBij de waterval kun je zwemmen of in het water springen. Superleuk. \nDeelname eigen risico.\nGids: Mariët Bloemendal.\nMeenemen van voldoende drinken en wat te eten.\nDenk aan bescherming tegen zon en badkleding.\nKosten vanmiddag: Kinderen € 15 p/p\nVanaf 18 jaar € 17\,50 p/p\nVerzamelen om 15.00 uur bij de grote parkeerplaats (markt) in Bolsena!
URL:https://volgderodeschoentjes.nu/agenda/zondagmiddag-aquatrekking-3/
LOCATION:Bolsena\, Bolsena\, Italië
CATEGORIES:Zomeratelier,Evenement
ATTACH;FMTTYPE=image/jpeg:https://volgderodeschoentjes.nu/wp-content/uploads/2016/12/waterfal-volg-de-rode-schoentjes-e1543754052437.jpg
ORGANIZER;CN="Volgderodeschoentjes":MAILTO:info@volgderodeschoentjes.nu
END:VEVENT
BEGIN:VEVENT
DTSTART;TZID=Europe/Amsterdam:20190825T150000
DTEND;TZID=Europe/Amsterdam:20190825T183000
DTSTAMP:20260423T144421
CREATED:20181220T171541Z
LAST-MODIFIED:20181220T171627Z
UID:209304-1566745200-1566757800@volgderodeschoentjes.nu
SUMMARY:Zondagmiddag – Aquatrekking
DESCRIPTION:Zondagmiddag – Aquatrekking.\nIedere zondagmiddag in juli en augustus. \nVolg de rode schoentjes en ga mee op “Aquatrekking”.\nEen leuke en frisse manier om de heuvelachtige omgeving\nrondom het meer van Bolsena te leren kennen.\nWe lopen op blote voeten of waterschoenen door het water.\nPuur natuur. Soms spannend\, maar met heel veel fun!\nBij de waterval kun je zwemmen of in het water springen. Superleuk. \nDeelname eigen risico.\nGids: Mariët Bloemendal.\nMeenemen van voldoende drinken en wat te eten.\nDenk aan bescherming tegen zon en badkleding.\nKosten vanmiddag: Kinderen € 15 p/p\nVanaf 18 jaar € 17\,50 p/p\nVerzamelen om 15.00 uur bij de grote parkeerplaats (markt) in Bolsena!
URL:https://volgderodeschoentjes.nu/agenda/zondagmiddag-aquatrekking-4/
LOCATION:Bolsena\, Bolsena\, Italië
CATEGORIES:Zomeratelier,Evenement
ATTACH;FMTTYPE=image/jpeg:https://volgderodeschoentjes.nu/wp-content/uploads/2016/12/waterfal-volg-de-rode-schoentjes-e1543754052437.jpg
ORGANIZER;CN="Volgderodeschoentjes":MAILTO:info@volgderodeschoentjes.nu
END:VEVENT
END:VCALENDAR