BEGIN:VCALENDAR
VERSION:2.0
PRODID:-//Volg de rode schoentjes - ECPv6.15.20//NONSGML v1.0//EN
CALSCALE:GREGORIAN
METHOD:PUBLISH
X-ORIGINAL-URL:https://volgderodeschoentjes.nu
X-WR-CALDESC:Evenementen voor Volg de rode schoentjes
REFRESH-INTERVAL;VALUE=DURATION:PT1H
X-Robots-Tag:noindex
X-PUBLISHED-TTL:PT1H
BEGIN:VTIMEZONE
TZID:Europe/Amsterdam
BEGIN:DAYLIGHT
TZOFFSETFROM:+0100
TZOFFSETTO:+0200
TZNAME:CEST
DTSTART:20180325T010000
END:DAYLIGHT
BEGIN:STANDARD
TZOFFSETFROM:+0200
TZOFFSETTO:+0100
TZNAME:CET
DTSTART:20181028T010000
END:STANDARD
BEGIN:DAYLIGHT
TZOFFSETFROM:+0100
TZOFFSETTO:+0200
TZNAME:CEST
DTSTART:20190331T010000
END:DAYLIGHT
BEGIN:STANDARD
TZOFFSETFROM:+0200
TZOFFSETTO:+0100
TZNAME:CET
DTSTART:20191027T010000
END:STANDARD
BEGIN:DAYLIGHT
TZOFFSETFROM:+0100
TZOFFSETTO:+0200
TZNAME:CEST
DTSTART:20200329T010000
END:DAYLIGHT
BEGIN:STANDARD
TZOFFSETFROM:+0200
TZOFFSETTO:+0100
TZNAME:CET
DTSTART:20201025T010000
END:STANDARD
BEGIN:DAYLIGHT
TZOFFSETFROM:+0100
TZOFFSETTO:+0200
TZNAME:CEST
DTSTART:20210328T010000
END:DAYLIGHT
BEGIN:STANDARD
TZOFFSETFROM:+0200
TZOFFSETTO:+0100
TZNAME:CET
DTSTART:20211031T010000
END:STANDARD
BEGIN:DAYLIGHT
TZOFFSETFROM:+0100
TZOFFSETTO:+0200
TZNAME:CEST
DTSTART:20220327T010000
END:DAYLIGHT
BEGIN:STANDARD
TZOFFSETFROM:+0200
TZOFFSETTO:+0100
TZNAME:CET
DTSTART:20221030T010000
END:STANDARD
BEGIN:DAYLIGHT
TZOFFSETFROM:+0100
TZOFFSETTO:+0200
TZNAME:CEST
DTSTART:20230326T010000
END:DAYLIGHT
BEGIN:STANDARD
TZOFFSETFROM:+0200
TZOFFSETTO:+0100
TZNAME:CET
DTSTART:20231029T010000
END:STANDARD
BEGIN:DAYLIGHT
TZOFFSETFROM:+0100
TZOFFSETTO:+0200
TZNAME:CEST
DTSTART:20240331T010000
END:DAYLIGHT
BEGIN:STANDARD
TZOFFSETFROM:+0200
TZOFFSETTO:+0100
TZNAME:CET
DTSTART:20241027T010000
END:STANDARD
BEGIN:DAYLIGHT
TZOFFSETFROM:+0100
TZOFFSETTO:+0200
TZNAME:CEST
DTSTART:20250330T010000
END:DAYLIGHT
BEGIN:STANDARD
TZOFFSETFROM:+0200
TZOFFSETTO:+0100
TZNAME:CET
DTSTART:20251026T010000
END:STANDARD
BEGIN:DAYLIGHT
TZOFFSETFROM:+0100
TZOFFSETTO:+0200
TZNAME:CEST
DTSTART:20260329T010000
END:DAYLIGHT
BEGIN:STANDARD
TZOFFSETFROM:+0200
TZOFFSETTO:+0100
TZNAME:CET
DTSTART:20261025T010000
END:STANDARD
BEGIN:DAYLIGHT
TZOFFSETFROM:+0100
TZOFFSETTO:+0200
TZNAME:CEST
DTSTART:20270328T010000
END:DAYLIGHT
BEGIN:STANDARD
TZOFFSETFROM:+0200
TZOFFSETTO:+0100
TZNAME:CET
DTSTART:20271031T010000
END:STANDARD
END:VTIMEZONE
BEGIN:VEVENT
DTSTART;TZID=Europe/Amsterdam:20260404T160000
DTEND;TZID=Europe/Amsterdam:20260411T100000
DTSTAMP:20260421T152629
CREATED:20251021T124150Z
LAST-MODIFIED:20260129T171712Z
UID:229070-1775318400-1775901600@volgderodeschoentjes.nu
SUMMARY:Wandelvakantie Etrusken Italië
DESCRIPTION:Wandelvakantie Etrusken Italië \nOntdek verborgen Etruskische routes\, mystieke holle wegen en eeuwenoude grafvelden. Met luxe verblijf\, privé gids en exclusieve toegang. \n Midden-Italië | Toscane · Lazio Kleine groepen · Persoonlijke begeleiding · Authentieke routes. Volg de Etrusken met luxe comfort en persoonlijke begeleiding. \nVoel het zelf: Al 18 jaar en honderden wandelingen in deze regio blijf ik keer op keer betoverd door de stilte\, de schoonheid en de verborgen verhalen van de Etrusken in Lazio en Zuid-Toscane. Stel je voor hoe het voelt om dit voor het eerst te ontdekken. \nIn kleine groepen van maximaal 6 personen wandel je door eeuwenoude holle wegen (via cave)\, authentieke dorpjes en archeologische vindplaatsen. Je verblijft in een luxe accommodatie met zwembad grote tuin en een fantastisch uitzicht over het meer van Bolsena. Geniet van bijzondere lunches en krijgt persoonlijke begeleiding en exclusieve toegang tot locaties die gewone toeristen nooit zien. Dit is geen gewone wandelvakantie; het is een premium ontdekkingstocht waar beleving\, geschiedenis en natuur samen komen. Samen met mij\, Mariët Bloemendal van Volg de Rode Schoentjes\, trek je je wandelschoenen aan en ga je op ontdekking in Lazio en Zuid-Toscane\, regio’s doordrenkt van Etruskische mystiek en verborgen verhalen. Tijdens deze wandelvakantie Etrusken Italië bezoek je verborgen necropolissen\, archeologische vondsten en ongerepte natuur – plekken die gewone toeristen nooit zien. Durf jij de verborgen Etruskische geheimen te ontdekken tijdens een onvergetelijke wandelweek in Italië?
URL:https://volgderodeschoentjes.nu/agenda/https-volgderodeschoentjes-nu-project-wandelvakantie-etrusken-italie-2/
LOCATION:Bolsena\, Bolsena\, Italië
CATEGORIES:agenda 2026,Wandelen Italie,Etrusken,Aktief
ATTACH;FMTTYPE=image/jpeg:https://volgderodeschoentjes.nu/wp-content/uploads/2016/12/etrusken.jpg
END:VEVENT
BEGIN:VEVENT
DTSTART;TZID=Europe/Amsterdam:20250924T160000
DTEND;TZID=Europe/Amsterdam:20251001T100000
DTSTAMP:20260421T152629
CREATED:20191126T184837Z
LAST-MODIFIED:20241118T153302Z
UID:211394-1758729600-1759312800@volgderodeschoentjes.nu
SUMMARY:Etrusken cultuurreis Italië
DESCRIPTION:Etrusken cultuurreis Italië.\nOntdek en beleef de Etrusken tijdens onze dynamische Etrusken cultuurreis! Nieuw bezoek aan San Casiano dei Bagni.\nAlleenreizend op vakantie\, maar liever niet alleen tijdens je reis? Samen met een vriend of vriendin\, zus of broer of anders. Geniet je van prachtige nieuwe ontmoetingen\, indrukken en inzichten om nooit te vergeten? Ga je graag met een groep gezellige en gelijkgestemde mensen samen op vakantie in een ongedwongen sfeer?\nWij\, Mariët Bloemendal van Volg de Rode Schoentjes en privégids en kenner  van de Etrusken Annalisa Parridano nemen je graag mee op reis op “zoek” naar de (kunst)schatten van dit mystieke volk.\nTijdens de week leiden wij je langs hollewegen die op spectaculaire wijze in de tufsteenheuvels zijn uitgehakt. Langs necropoli en praalgraven zoals de “Tomba Ildebranda” bij Sovana. Het museum en de beschilderde grafkamers in Tarquinia. Tuscania de geboortestad van de laatste koning van Rome “Tarquinius Superbus”. De nieuwe vondsten van San Casiano dei Bagni.\nDe oude stad Vitozza waar je kunt zien hoe de Etrusken hebben gewoond. Meer informatie
URL:https://volgderodeschoentjes.nu/agenda/etrusken-cultuur-reis-italie/
LOCATION:Bolsena\, Bolsena\, Italië
CATEGORIES:agenda 2025,Etrusken,Cultureel,Aktief,Evenement
ATTACH;FMTTYPE=image/jpeg:https://volgderodeschoentjes.nu/wp-content/uploads/2019/10/banner-cultuur.jpg
ORGANIZER;CN="Volgderodeschoentjes":MAILTO:info@volgderodeschoentjes.nu
END:VEVENT
BEGIN:VEVENT
DTSTART;TZID=Europe/Amsterdam:20250423T160000
DTEND;TZID=Europe/Amsterdam:20250430T100000
DTSTAMP:20260421T152629
CREATED:20201121T180208Z
LAST-MODIFIED:20241117T101331Z
UID:213601-1745424000-1746007200@volgderodeschoentjes.nu
SUMMARY:Etrusken cultuurreis Italië
DESCRIPTION:Etrusken Cultuurreis.\nOntdek en beleef de Etrusken tijdens onze dynamische Etrusken cultuurreis!\nAlleenreizend op vakantie\, maar liever niet alleen tijdens je reis? Samen met een vriend of vriendin\, zus of broer of anders. Geniet je van prachtige nieuwe ontmoetingen\, indrukken en inzichten om nooit te vergeten? Ga je graag met een groep gezellige en gelijkgestemde mensen samen op vakantie in een ongedwongen sfeer?\nWij\, Mariët Bloemendal van Volg de Rode Schoentjes en privégids en kenner  van de Etrusken Anna Lisa Parridano nemen je graag mee op reis op “zoek” naar de (kunst)schatten van dit mystieke volk. \nTijdens de week leiden wij je langs hollewegen die op spectaculaire wijze in de tufsteenheuvels zijn uitgehakt. Langs necropoli en praalgraven zoals de “Tomba Ildebranda” bij Sovana. Het museum en de beschilderde grafkamers in Tarquinia. Tuscania de geboortestad van de laatste koning van Rome “Tarquinius Superbus”. Nieuw San Casiano dei Bagni.\nDe oude stad Vitozza waar je kunt zien hoe de Etrusken hebben gewoond. Meer informatie
URL:https://volgderodeschoentjes.nu/agenda/etrusken-cultuur-reis-italie-3/
LOCATION:Bolsena\, Bolsena\, Italië
CATEGORIES:agenda 2025,Etrusken,Cultureel
ATTACH;FMTTYPE=image/jpeg:https://volgderodeschoentjes.nu/wp-content/uploads/2019/10/banner-cultuur.jpg
ORGANIZER;CN="Volgderodeschoentjes":MAILTO:info@volgderodeschoentjes.nu
END:VEVENT
BEGIN:VEVENT
DTSTART;TZID=Europe/Amsterdam:20190824T160000
DTEND;TZID=Europe/Amsterdam:20190831T160000
DTSTAMP:20260421T152629
CREATED:20181220T123754Z
LAST-MODIFIED:20181220T135222Z
UID:209262-1566662400-1567267200@volgderodeschoentjes.nu
SUMMARY:Etrusken culturele reis
DESCRIPTION:Etrusken cultuurvakantie Italie. \nOntdek en beleef de Etrusken tijdens onze dynamische Etrusken cultuurreis! Wij\, Mariët Bloemendal van “Volg de rode schoentjes” en privégids en Etrusken kenner Annalisa nemen je graag mee op reis op “zoek” naar de (kunst)schatten van dit mystieke volk.\nTijdens de week leiden wij je langs hollewegen die op spectaculaire wijze in de tufsteenheuvels zijn uitgehakt. Langs necropoli en praalgraven zoals de “Tomba Ildebranda” bij Sovana. Het museum en de beschilderde grafkamers in Tarquinia. Tuscania de geboorte stad van de laatste koning van Rome “Tarquinius Superbus”.\nDe oude stad Vitozza waar je kunt zien hoe de Etrusken hebben gewoond.
URL:https://volgderodeschoentjes.nu/agenda/etrusken-culturele-reis/
LOCATION:Bolsena\, Bolsena\, Italië
CATEGORIES:Cultureel,Aktief,Evenement
ATTACH;FMTTYPE=image/jpeg:https://volgderodeschoentjes.nu/wp-content/uploads/2016/12/46498367_394033838163144_2467960050199560192_n-e1542745845129.jpg
ORGANIZER;CN="Volgderodeschoentjes":MAILTO:info@volgderodeschoentjes.nu
END:VEVENT
BEGIN:VEVENT
DTSTART;TZID=Europe/Amsterdam:20190813T150000
DTEND;TZID=Europe/Amsterdam:20190813T193000
DTSTAMP:20260421T152629
CREATED:20181220T180753Z
LAST-MODIFIED:20181220T180933Z
UID:209333-1565708400-1565724600@volgderodeschoentjes.nu
SUMMARY:Kunst en beeldentuin Villa Lante Italie
DESCRIPTION:Vertrek 15.00 uur. Parkeerplaast Bolsena. \nVilla Lante ligt bij het dorpje Bagnaia.  Ontworpen door kardinaal Gambara\, die in plaats van bidden liever buiten was. Bijzondere tuin met mooie geometrische patronen en fonteinen. Gambara hield van de blauwe hemel. De groene weelde van struiken en planten. De verkoeling van een aangename wind tijdens de warme zomerse dagen en van uitgebreid dineren in de open lucht\nKosten: 35\,- p/p. Inclusief entree en vervoer.\nGids: Mariët Bloemendal
URL:https://volgderodeschoentjes.nu/agenda/kunst-en-beeldentuin-villa-lante-italie-2/
LOCATION:Bolsena\, Bolsena\, Italië
CATEGORIES:Zomeratelier,Artistiek
ATTACH;FMTTYPE=image/jpeg:https://volgderodeschoentjes.nu/wp-content/uploads/2018/12/Villa-Lante-Viterbo18.jpg
ORGANIZER;CN="Volgderodeschoentjes":MAILTO:info@volgderodeschoentjes.nu
END:VEVENT
BEGIN:VEVENT
DTSTART;TZID=Europe/Amsterdam:20190723T150000
DTEND;TZID=Europe/Amsterdam:20190723T193000
DTSTAMP:20260421T152629
CREATED:20181220T180622Z
LAST-MODIFIED:20190207T184546Z
UID:209330-1563894000-1563910200@volgderodeschoentjes.nu
SUMMARY:Beeldentuin Villa Lante Italie
DESCRIPTION:Excursie Villa Lante.\nVertrek 15.00 uur. Parkeerplaast Bolsena. \nVilla Lante ligt bij het dorpje Bagnaia.  Ontworpen door kardinaal Gambara\, die in plaats van bidden liever buiten was. Bijzondere tuin met mooie geometrische patronen en fonteinen. Gambara hield van de blauwe hemel. De groene weelde van struiken en planten. De verkoeling van een aangename wind tijdens de warme zomerse dagen en van uitgebreid dineren in de open lucht\nKosten: 35\,- p/p. Inclusief entree en vervoer.\nGids: Mariët Bloemendal \n\n\n                \n\n                        \n                            Aanmelden dagexcursies Italië\n                             \n							"*" geeft vereiste velden aan \n                        \n                        CompanyDit veld is bedoeld voor validatiedoeleinden en moet niet worden gewijzigd.Naam\n                            \n                            \n                                                    \n                                                    Voornaam\n                                                \n                            \n                            \n                                                    \n                                                    Achternaam\n                                                \n                            \n                        Telefoon*E-mailadres*\n                            \n                        Activiteit*Zondagmiddag – AquatrekkingMaandag - Wijnwandelen Sovan PitiglianoDinsdag – Stadswandeling Bolsena en lunch in onze olijfgaard Quattro Fratelli.Woensdag - Wandelen Vitozza SoranoWoensdag + Vrijdag - Truffels ZoekenDonderdag – Bomarzo le pyramida EtruscaDonderdag- Blind date in olijfgaard BolsenaVrijdag - Wandeling Civita di Bagnoregio en Valle dei CalanchiZaterdag – Wandeling HermitageZaterdag - Urban sketchingDinsdag - Zaterdag - Zondag - Yoga en MeditatiesessieKinderatelier maandag- en woensdagochtendKies hier de activiteit(en) van je keuzeWijnwandelen Sovan Pitigliano (iedere maandag zie link voor data) Aantal\n					\n					\n						Prijs:\n						€ 110\,00\n					\n					\n					 Aantal \n				 Klik hier voor alle info en dataAquatrekking (iedere zondag zie link voor data) Aantal\n					\n					\n						Prijs:\n						€ 40\,00\n					\n					\n					 Aantal \n				 Klik hier voor alle info en dataStadswandeling Bolsena en lunch in onze olijfgaard Quattro Fratelli Aantal\n					\n					\n						Prijs:\n						€ 85\,00\n					\n					\n					 Aantal \n				Volwassenen  Klik hier voor alle info en dataStadswandeling Bolsena en lunch in onze olijfgaard Quattro Fratelli Aantal\n					\n					\n						Prijs:\n						€ 30\,00\n					\n					\n					 Aantal \n				Kinderen tot 15 jaar  Klik hier voor alle info en dataTruffels zoeken (woensdag en vrijdag zie link voor data) Aantal\n					\n					\n						Prijs:\n						€ 115\,00\n					\n					\n					 Aantal \n				 Klik hier voor alle info en dataWandeldag sorano  (woensdag: zie link voor data) Aantal\n					\n					\n						Prijs:\n						€ 65\,00\n					\n					\n					 Aantal \n				1 tm 3 personen:\n Klik hier voor alle info en dataWandeldag sorano  (woensdag: zie link voor data) Aantal\n					\n					\n						Prijs:\n						€ 60\,00\n					\n					\n					 Aantal \n				4-6 personen groepskorting:\n Klik hier voor alle info en dataWandeldag sorano  (woensdag: zie link voor data) Aantal\n					\n					\n						Prijs:\n						€ 55\,00\n					\n					\n					 Aantal \n				7 of meer personen groepskorting\n Klik hier voor alle info en dataSchilderworkshop olijfgaard Bolsena  (donderdag: zie link voor data)Prijs voor 1 persoon Klik hier voor alle info en data\n					\n					\n						Prijs:\n						\n					\n					\n				Schilderworkshop olijfgaard Bolsena  (donderdag: zie link voor data) AantalBoek met een vriend of vriendin (korting bij 2 -4 personen)\n Klik hier voor alle info en data\n					\n					\n						Prijs:\n						€ 145\,00\n					\n					\n					 Aantal \n				Schilderworkshop olijfgaard Bolsena  (donderdag: zie link voor data) AantalGroepen van 4 personen of meer krijgen 15% korting: \n Klik hier voor alle info en data\n					\n					\n						Prijs:\n						€ 131\,75\n					\n					\n					 Aantal \n				Wandelen Le Pyramida Etrusca Bomarzo  (donderdag: zie link voor data) AantalPrijs voor 1 t/m 3 personen  Klik hier voor alle info en data\n					\n					\n						Prijs:\n						€ 75\,00\n					\n					\n					 Aantal \n				Wandelen Le Pyramida Etrusca Bomarzo  (donderdag: zie link voor data) AantalPrijs voor 4-6 personen  Klik hier voor alle info en data\n					\n					\n						Prijs:\n						€ 65\,00\n					\n					\n					 Aantal \n				Wandelen Le Pyramida Etrusca Bomarzo  (donderdag: zie link voor data) AantalPrijs voor 7 personen of meer  Klik hier voor alle info en data\n					\n					\n						Prijs:\n						€ 55\,00\n					\n					\n					 Aantal \n				Civita di Bagnoregio en Ecowine Experience wijnhuis Tre Botti (vrijdag: zie link voor data) AantalPrijs voor 1 t/m 7 personen  Klik hier voor alle info en data\n					\n					\n						Prijs:\n						€ 110\,00\n					\n					\n					 Aantal \n				Civita di Bagnoregio en Ecowine Experience wijnhuis Tre Botti (vrijdag: zie link voor data) AantalGroepskorting vanaf 8 personen  Klik hier voor alle info en data\n					\n					\n						Prijs:\n						€ 95\,00\n					\n					\n					 Aantal \n				Exclusieve Urban Sketching Workshop in Bolsena (zaterdag: zie link voor data) AantalPrijs voor 1 of 2 personen  Klik hier voor alle info en data\n					\n					\n						Prijs:\n						€ 135\,00\n					\n					\n					 Aantal \n				Exclusieve Urban Sketching Workshop in Bolsena (zaterdag: zie link voor data) AantalGroepskorting 3 personen of meer  Klik hier voor alle info en data\n					\n					\n						Prijs:\n						€ 121\,50\n					\n					\n					 Aantal \n				Wandeling Hermitage en kluizenaarsgrot (zaterdag: zie link voor data) AantalPrijs voor 1 t/m 3 personen  Klik hier voor alle info en data\n					\n					\n						Prijs:\n						€ 45\,00\n					\n					\n					 Aantal \n				Kinderatelier Bolsena Iedere maandag- en woensdagochtend (van juli tot oktober: zie link voor data) Aantal Klik hier voor alle info en data\nKosten incl. materiaal en een drankje 30\,- P/k\nLeeftijd vanaf 6 jaar\n					\n					\n						Prijs:\n						€ 30\,00\n					\n					\n					 Aantal \n				Yoga- en Meditatiesessie  (zondag\, dinsdag\, zaterdag: zie link voor data) Aantal Klik hier voor alle info en data\n					\n					\n						Prijs:\n						€ 40\,00\n					\n					\n					 Aantal \n				Yoga- en Meditatiesessie  (zondag\, dinsdag\, zaterdag: zie link voor data)3 sessies  Klik hier voor alle info en data\nVul hierna 3 dagen in!\n					\n					\n						Prijs:\n						\n					\n					\n				1e datum keuzeWanneer ben je in Italië?\nWil je aangeven voor welke datum je de activiteit wilt boeken? \n                            \n                            MM slash DD slash JJJJ\n                        \n                        2e datum keuzeAls mijn eerste keuze niet beschikbaar is kan ik ook op:*\n\nBij 3 yogasessies vul je de 2e datum hier in*\n\n                            \n                            MM slash DD slash JJJJ\n                        \n                        3e datum keuzeAls mijn keuze niet beschikbaar is kan ik ook op:\n\n*Bij 3 yogasessies vul je de 3e datum hier in*\n                            \n                            MM slash DD slash JJJJ\n                        \n                        LijstKies je meerdere excursies vul dan hier de excursies en de gewenste data in.ExcursieExcursieExcursie    Toevoegen   VerwijderTotaal\n							\n						BetaalmethodeiDEAL | Wero\n                                    American ExpressMasterCardVisaOndersteunde creditcards: American Express\, MasterCard\, Visa\n                                    \n                                    Kaartnummer\n                                 \n                                            \n                                                \n                                                Vervaldatum\n                                            \n                                                \n                                                 \n                                                Beveiligingscode\n                                             \n                                        \n                                            \n                                            Naam kaarthouder\n                                         \n          \n            \n            \n            \n            \n            \n            \n            \n            \n            \n            \n            \n            \n            \n        \n                        Δ
URL:https://volgderodeschoentjes.nu/agenda/beeldentuin-villa-lante-italie/
LOCATION:Bolsena\, Bolsena\, Italië
CATEGORIES:Zomeratelier,Artistiek
ATTACH;FMTTYPE=image/jpeg:https://volgderodeschoentjes.nu/wp-content/uploads/2018/12/Villa-Lante-Viterbo58.jpg
ORGANIZER;CN="Volgderodeschoentjes":MAILTO:info@volgderodeschoentjes.nu
END:VEVENT
BEGIN:VEVENT
DTSTART;TZID=Europe/Amsterdam:20190201T080000
DTEND;TZID=Europe/Amsterdam:20190203T170000
DTSTAMP:20260421T152629
CREATED:20181220T134354Z
LAST-MODIFIED:20181220T134354Z
UID:209281-1549008000-1549213200@volgderodeschoentjes.nu
SUMMARY:Little Italy evenement Amsterdam
DESCRIPTION:Wij staan op het Little Italy evenement. \nVolop vakantie inspiratie bij Volg de Rode Schoentjes.\nDompel je tijdens Little Italy helemaal onder in het Italiaanse leven. Met bijzondere proeverijen\, workshops\, showcooking\, een uitgebreide foodmarkt. Interessante lezingen over de Italiaanse (eet)cultuur en natuurlijk veel vakantie-inspiratie! Kom ook en waan je – middenin Amsterdam – in Italië. Bekijk alle activiteiten op Little Italy.
URL:https://volgderodeschoentjes.nu/agenda/little-italy-evenement-amsterdam/
LOCATION:Amsterdam westergasfabriek\, Pazzanistraat 33\, Amsterdam
CATEGORIES:Evenement
ATTACH;FMTTYPE=image/jpeg:https://volgderodeschoentjes.nu/wp-content/uploads/2018/12/little-italy.jpg
ORGANIZER;CN="Volgderodeschoentjes":MAILTO:info@volgderodeschoentjes.nu
END:VEVENT
END:VCALENDAR