BEGIN:VCALENDAR
VERSION:2.0
PRODID:-//Volg de rode schoentjes - ECPv6.15.20//NONSGML v1.0//EN
CALSCALE:GREGORIAN
METHOD:PUBLISH
X-WR-CALNAME:Volg de rode schoentjes
X-ORIGINAL-URL:https://volgderodeschoentjes.nu
X-WR-CALDESC:Evenementen voor Volg de rode schoentjes
REFRESH-INTERVAL;VALUE=DURATION:PT1H
X-Robots-Tag:noindex
X-PUBLISHED-TTL:PT1H
BEGIN:VTIMEZONE
TZID:Europe/Amsterdam
BEGIN:DAYLIGHT
TZOFFSETFROM:+0100
TZOFFSETTO:+0200
TZNAME:CEST
DTSTART:20250330T010000
END:DAYLIGHT
BEGIN:STANDARD
TZOFFSETFROM:+0200
TZOFFSETTO:+0100
TZNAME:CET
DTSTART:20251026T010000
END:STANDARD
BEGIN:DAYLIGHT
TZOFFSETFROM:+0100
TZOFFSETTO:+0200
TZNAME:CEST
DTSTART:20260329T010000
END:DAYLIGHT
BEGIN:STANDARD
TZOFFSETFROM:+0200
TZOFFSETTO:+0100
TZNAME:CET
DTSTART:20261025T010000
END:STANDARD
BEGIN:DAYLIGHT
TZOFFSETFROM:+0100
TZOFFSETTO:+0200
TZNAME:CEST
DTSTART:20270328T010000
END:DAYLIGHT
BEGIN:STANDARD
TZOFFSETFROM:+0200
TZOFFSETTO:+0100
TZNAME:CET
DTSTART:20271031T010000
END:STANDARD
END:VTIMEZONE
BEGIN:VEVENT
DTSTART;TZID=Europe/Amsterdam:20260516T160000
DTEND;TZID=Europe/Amsterdam:20260523T100000
DTSTAMP:20260420T053412
CREATED:20221110T141420Z
LAST-MODIFIED:20260213T115140Z
UID:223984-1778947200-1779530400@volgderodeschoentjes.nu
SUMMARY:Etrusken cultuurreis Italië
DESCRIPTION:Etrusken Cultuurreis.\nETRUSKEN CULTUURREIS ITALIË \nCultuur & luxe · 8 dagen · max. 6 gasten\n✨ Meest gekozen · ideale kennismaking met de Etrusken \nEen kleinschalige cultuurreis langs de fascinerende wereld van de Etrusken. We bezoeken bijzondere archeologische plekken\, musea en necropolissen rond Bolsena en combineren verdieping met ontspannen genieten. Verblijf in een luxe agriturismo met zwembad en persoonlijke begeleiding gedurende de hele week. Meer informatie
URL:https://volgderodeschoentjes.nu/agenda/etrusken-cultuur-reis-italie-2/
LOCATION:Bolsena\, Bolsena\, Italië
CATEGORIES:agenda 2026,Etrusken,Cultureel
ATTACH;FMTTYPE=image/jpeg:https://volgderodeschoentjes.nu/wp-content/uploads/2019/10/banner-cultuur.jpg
ORGANIZER;CN="Volgderodeschoentjes":MAILTO:info@volgderodeschoentjes.nu
END:VEVENT
END:VCALENDAR