BEGIN:VCALENDAR
VERSION:2.0
PRODID:-//Volg de rode schoentjes - ECPv6.15.20//NONSGML v1.0//EN
CALSCALE:GREGORIAN
METHOD:PUBLISH
X-ORIGINAL-URL:https://volgderodeschoentjes.nu
X-WR-CALDESC:Evenementen voor Volg de rode schoentjes
REFRESH-INTERVAL;VALUE=DURATION:PT1H
X-Robots-Tag:noindex
X-PUBLISHED-TTL:PT1H
BEGIN:VTIMEZONE
TZID:Europe/Amsterdam
BEGIN:DAYLIGHT
TZOFFSETFROM:+0100
TZOFFSETTO:+0200
TZNAME:CEST
DTSTART:20240331T010000
END:DAYLIGHT
BEGIN:STANDARD
TZOFFSETFROM:+0200
TZOFFSETTO:+0100
TZNAME:CET
DTSTART:20241027T010000
END:STANDARD
BEGIN:DAYLIGHT
TZOFFSETFROM:+0100
TZOFFSETTO:+0200
TZNAME:CEST
DTSTART:20250330T010000
END:DAYLIGHT
BEGIN:STANDARD
TZOFFSETFROM:+0200
TZOFFSETTO:+0100
TZNAME:CET
DTSTART:20251026T010000
END:STANDARD
BEGIN:DAYLIGHT
TZOFFSETFROM:+0100
TZOFFSETTO:+0200
TZNAME:CEST
DTSTART:20260329T010000
END:DAYLIGHT
BEGIN:STANDARD
TZOFFSETFROM:+0200
TZOFFSETTO:+0100
TZNAME:CET
DTSTART:20261025T010000
END:STANDARD
BEGIN:DAYLIGHT
TZOFFSETFROM:+0100
TZOFFSETTO:+0200
TZNAME:CEST
DTSTART:20270328T010000
END:DAYLIGHT
BEGIN:STANDARD
TZOFFSETFROM:+0200
TZOFFSETTO:+0100
TZNAME:CET
DTSTART:20271031T010000
END:STANDARD
END:VTIMEZONE
BEGIN:VEVENT
DTSTART;TZID=Europe/Amsterdam:20260404T160000
DTEND;TZID=Europe/Amsterdam:20260411T100000
DTSTAMP:20260420T142942
CREATED:20251021T132200Z
LAST-MODIFIED:20251021T132301Z
UID:229108-1775318400-1775901600@volgderodeschoentjes.nu
SUMMARY:Kookvakantie vegetarisch Italië
DESCRIPTION:Kookvakantie vegetarisch Italië\nKookvakantie vegetarisch Italië is de traditionele vegetarische keuken ontdekken van de Italiaanse nonna`s uit de Alta-Tuscia.  Een kookweek waar  traditionele recepten worden afgewisseld met fantastische eigen recepten uit de circulaire keuken van Fabiana Eremo. Een ontdekkingsreis voor gepassioneerde fijnproevers en levensgenieters met een passie voor koken.\nWij\, Mariët Bloemendal van Volg de Rode Schoentjes en Fabiana Eremo chef-kok bij haar eigen homerestaurant La Casa di Effe hebben een mooi programma gemaakt. We gaan twee kookdagen de traditionele keuken van de Alta Tuscia ontdekken en twee dagen op ontdekkingsreis door de circulaire keuken. Circulair koken is gebruik maken van het hele product; van pit tot schil. Centraal staat het respect voor het milieu\, de dieren en de levenscyclus van voedsel\, zonder afval.\nDe creativiteit van Fabiana is voelbaar in haar eigen keuken en vind je terug in haar gerechten. Alles met een creatief sausje haar gerechten zijn kunst. Dat wordt bijzonder dus!\nHelemaal bijzonder is de “truffeljacht” tijdens deze week met Federico Spadoni en zijn truffelhond Arco. Van de gevonden truffels gaan we genieten tijdens een geweldige uitgebreide lunch in de campagnia.\nMeer info:
URL:https://volgderodeschoentjes.nu/agenda/kookvakantie-vegetarisch-italie-2/
LOCATION:Bolsena\, Bolsena\, Italië
CATEGORIES:agenda 2026,Koken,Culinair,Evenement
ATTACH;FMTTYPE=image/jpeg:https://volgderodeschoentjes.nu/wp-content/uploads/2016/12/schortjes-e1771259413977.jpg
ORGANIZER;CN="Volgderodeschoentjes":MAILTO:info@volgderodeschoentjes.nu
END:VEVENT
BEGIN:VEVENT
DTSTART;TZID=Europe/Amsterdam:20260221T160000
DTEND;TZID=Europe/Amsterdam:20260228T100000
DTSTAMP:20260420T142942
CREATED:20251021T132336Z
LAST-MODIFIED:20251021T132425Z
UID:229111-1771689600-1772272800@volgderodeschoentjes.nu
SUMMARY:Kookvakantie vegetarisch Italië
DESCRIPTION:Kookvakantie vegetarisch Italië\nKookvakantie vegetarisch Italië is de traditionele vegetarische keuken ontdekken van de Italiaanse nonna`s uit de Alta-Tuscia.  Een kookweek waar  traditionele recepten worden afgewisseld met fantastische eigen recepten uit de circulaire keuken van Fabiana Eremo. Een ontdekkingsreis voor gepassioneerde fijnproevers en levensgenieters met een passie voor koken.\nWij\, Mariët Bloemendal van Volg de Rode Schoentjes en Fabiana Eremo chef-kok bij haar eigen homerestaurant La Casa di Effe hebben een mooi programma gemaakt. We gaan twee kookdagen de traditionele keuken van de Alta Tuscia ontdekken en twee dagen op ontdekkingsreis door de circulaire keuken. Circulair koken is gebruik maken van het hele product; van pit tot schil. Centraal staat het respect voor het milieu\, de dieren en de levenscyclus van voedsel\, zonder afval.\nDe creativiteit van Fabiana is voelbaar in haar eigen keuken en vind je terug in haar gerechten. Alles met een creatief sausje haar gerechten zijn kunst. Dat wordt bijzonder dus!\nHelemaal bijzonder is de “truffeljacht” tijdens deze week met Federico Spadoni en zijn truffelhond Arco. Van de gevonden truffels gaan we genieten tijdens een geweldige uitgebreide lunch in de campagnia.\nMeer info:
URL:https://volgderodeschoentjes.nu/agenda/kookvakantie-vegetarisch-italie-3/
LOCATION:Bolsena\, Bolsena\, Italië
CATEGORIES:agenda 2026,Koken,Culinair,Evenement
ATTACH;FMTTYPE=image/jpeg:https://volgderodeschoentjes.nu/wp-content/uploads/2016/12/schortjes-e1771259413977.jpg
ORGANIZER;CN="Volgderodeschoentjes":MAILTO:info@volgderodeschoentjes.nu
END:VEVENT
BEGIN:VEVENT
DTSTART;TZID=Europe/Amsterdam:20251212T160000
DTEND;TZID=Europe/Amsterdam:20251217T100000
DTSTAMP:20260420T142942
CREATED:20251028T093143Z
LAST-MODIFIED:20251028T093211Z
UID:229172-1765555200-1765965600@volgderodeschoentjes.nu
SUMMARY:Culinaire kerst kookvakantie Italië
DESCRIPTION:Culinaire kerst kookvakantie Italië. \nBeleef vijf dagen onze culinaire kerst kookvakantie in een historisch palazzo in Bolsena. Drie culinaire masterclasses\, stijlvolle styling en een exclusief diner in een Michelin-sterrenrestaurant — een onvergetelijke luxe-ervaring voor levensgenieters. \nStap binnen in een wereld van verfijning\, smaak en exclusiviteit. Tijdens deze vijfdaagse culinaire ervaring verblijf je in het historische Palazzo in Bolsena.  Het palazzo ademt geschiedenis\, comfort en Italiaanse charme\, Een prachtig pand met elegante details en hoge plafonds— de perfecte setting voor een kerstervaring die je nooit zult vergeten.\nDeze vijf dagen draait alles om beleving en creatie: van de gerechten die je onder begeleiding van topchef Fabiana Eramo bereidt\, tot de sfeervolle tafels en de unieke culinaire avond in een Michelin-sterrenrestaurant. Alles is ontworpen voor levensgenieters die houden van stijl\, smaak en persoonlijke aandacht. \nLaat je verrassen door de culinaire kunstwerken die we samen creëren! Het wordt een gezellige tijd vol plezier en nieuwe vrienden. Doe mee en laat je verbazen!
URL:https://volgderodeschoentjes.nu/agenda/culinaire-kerst-kookvakantie-italie/
CATEGORIES:agenda 2025
ATTACH;FMTTYPE=image/jpeg:https://volgderodeschoentjes.nu/wp-content/uploads/2023/11/kerst-koken.jpg
END:VEVENT
BEGIN:VEVENT
DTSTART;TZID=Europe/Amsterdam:20250514T160000
DTEND;TZID=Europe/Amsterdam:20250521T100000
DTSTAMP:20260420T142942
CREATED:20191202T130303Z
LAST-MODIFIED:20251021T132039Z
UID:211467-1747238400-1747821600@volgderodeschoentjes.nu
SUMMARY:Kookvakantie Italië.
DESCRIPTION:Kookvakantie Italië\nKookvakantie Italië is de traditionele vegetarische keuken ontdekken van de Italiaanse nonna`s uit de Alta-Tuscia.  Een kookweek waar  traditionele recepten worden afgewisseld met fantastische eigen recepten uit de circulaire keuken van Fabiana Eremo. Een ontdekkingsreis voor gepassioneerde fijnproevers en levensgenieters met een passie voor koken.\nWij\, Mariët Bloemendal van Volg de Rode Schoentjes en Fabiana Eremo chef-kok bij haar eigen homerestaurant La Casa di Effe hebben een mooi programma gemaakt. We gaan twee kookdagen de traditionele keuken van de Alta Tuscia ontdekken en twee dagen op ontdekkingsreis door de circulaire keuken. Circulair koken is gebruik maken van het hele product; van pit tot schil. Centraal staat het respect voor het milieu\, de dieren en de levenscyclus van voedsel\, zonder afval.\nDe creativiteit van Fabiana is voelbaar in haar eigen keuken en vind je terug in haar gerechten. Alles met een creatief sausje haar gerechten zijn kunst. Dat wordt bijzonder dus!\nHelemaal bijzonder is de “truffeljacht” tijdens deze week met Federico Spadoni en zijn truffelhond Arco. Van de gevonden truffels gaan we genieten tijdens een geweldige uitgebreide lunch in de campagnia.\nMeer info:
URL:https://volgderodeschoentjes.nu/agenda/kookvakantie-italie/
LOCATION:Bolsena\, Bolsena\, Italië
CATEGORIES:agenda 2026,Koken,Culinair,Evenement
ATTACH;FMTTYPE=image/jpeg:https://volgderodeschoentjes.nu/wp-content/uploads/2022/11/koken-3-e1667918296301.jpg
ORGANIZER;CN="Volgderodeschoentjes":MAILTO:info@volgderodeschoentjes.nu
END:VEVENT
END:VCALENDAR