BEGIN:VCALENDAR
VERSION:2.0
PRODID:-//Volg de rode schoentjes - ECPv6.15.20//NONSGML v1.0//EN
CALSCALE:GREGORIAN
METHOD:PUBLISH
X-WR-CALNAME:Volg de rode schoentjes
X-ORIGINAL-URL:https://volgderodeschoentjes.nu
X-WR-CALDESC:Evenementen voor Volg de rode schoentjes
REFRESH-INTERVAL;VALUE=DURATION:PT1H
X-Robots-Tag:noindex
X-PUBLISHED-TTL:PT1H
BEGIN:VTIMEZONE
TZID:Europe/Amsterdam
BEGIN:DAYLIGHT
TZOFFSETFROM:+0100
TZOFFSETTO:+0200
TZNAME:CEST
DTSTART:20240331T010000
END:DAYLIGHT
BEGIN:STANDARD
TZOFFSETFROM:+0200
TZOFFSETTO:+0100
TZNAME:CET
DTSTART:20241027T010000
END:STANDARD
BEGIN:DAYLIGHT
TZOFFSETFROM:+0100
TZOFFSETTO:+0200
TZNAME:CEST
DTSTART:20250330T010000
END:DAYLIGHT
BEGIN:STANDARD
TZOFFSETFROM:+0200
TZOFFSETTO:+0100
TZNAME:CET
DTSTART:20251026T010000
END:STANDARD
BEGIN:DAYLIGHT
TZOFFSETFROM:+0100
TZOFFSETTO:+0200
TZNAME:CEST
DTSTART:20260329T010000
END:DAYLIGHT
BEGIN:STANDARD
TZOFFSETFROM:+0200
TZOFFSETTO:+0100
TZNAME:CET
DTSTART:20261025T010000
END:STANDARD
END:VTIMEZONE
BEGIN:VEVENT
DTSTART;TZID=Europe/Amsterdam:20251212T160000
DTEND;TZID=Europe/Amsterdam:20251217T100000
DTSTAMP:20260420T212958
CREATED:20251028T093143Z
LAST-MODIFIED:20251028T093211Z
UID:229172-1765555200-1765965600@volgderodeschoentjes.nu
SUMMARY:Culinaire kerst kookvakantie Italië
DESCRIPTION:Culinaire kerst kookvakantie Italië. \nBeleef vijf dagen onze culinaire kerst kookvakantie in een historisch palazzo in Bolsena. Drie culinaire masterclasses\, stijlvolle styling en een exclusief diner in een Michelin-sterrenrestaurant — een onvergetelijke luxe-ervaring voor levensgenieters. \nStap binnen in een wereld van verfijning\, smaak en exclusiviteit. Tijdens deze vijfdaagse culinaire ervaring verblijf je in het historische Palazzo in Bolsena.  Het palazzo ademt geschiedenis\, comfort en Italiaanse charme\, Een prachtig pand met elegante details en hoge plafonds— de perfecte setting voor een kerstervaring die je nooit zult vergeten.\nDeze vijf dagen draait alles om beleving en creatie: van de gerechten die je onder begeleiding van topchef Fabiana Eramo bereidt\, tot de sfeervolle tafels en de unieke culinaire avond in een Michelin-sterrenrestaurant. Alles is ontworpen voor levensgenieters die houden van stijl\, smaak en persoonlijke aandacht. \nLaat je verrassen door de culinaire kunstwerken die we samen creëren! Het wordt een gezellige tijd vol plezier en nieuwe vrienden. Doe mee en laat je verbazen!
URL:https://volgderodeschoentjes.nu/agenda/culinaire-kerst-kookvakantie-italie/
CATEGORIES:agenda 2025
ATTACH;FMTTYPE=image/jpeg:https://volgderodeschoentjes.nu/wp-content/uploads/2023/11/kerst-koken.jpg
END:VEVENT
END:VCALENDAR