BEGIN:VCALENDAR
VERSION:2.0
PRODID:-//Volg de rode schoentjes - ECPv6.15.20//NONSGML v1.0//EN
CALSCALE:GREGORIAN
METHOD:PUBLISH
X-ORIGINAL-URL:https://volgderodeschoentjes.nu
X-WR-CALDESC:Evenementen voor Volg de rode schoentjes
REFRESH-INTERVAL;VALUE=DURATION:PT1H
X-Robots-Tag:noindex
X-PUBLISHED-TTL:PT1H
BEGIN:VTIMEZONE
TZID:Europe/Amsterdam
BEGIN:DAYLIGHT
TZOFFSETFROM:+0100
TZOFFSETTO:+0200
TZNAME:CEST
DTSTART:20180325T010000
END:DAYLIGHT
BEGIN:STANDARD
TZOFFSETFROM:+0200
TZOFFSETTO:+0100
TZNAME:CET
DTSTART:20181028T010000
END:STANDARD
BEGIN:DAYLIGHT
TZOFFSETFROM:+0100
TZOFFSETTO:+0200
TZNAME:CEST
DTSTART:20190331T010000
END:DAYLIGHT
BEGIN:STANDARD
TZOFFSETFROM:+0200
TZOFFSETTO:+0100
TZNAME:CET
DTSTART:20191027T010000
END:STANDARD
BEGIN:DAYLIGHT
TZOFFSETFROM:+0100
TZOFFSETTO:+0200
TZNAME:CEST
DTSTART:20200329T010000
END:DAYLIGHT
BEGIN:STANDARD
TZOFFSETFROM:+0200
TZOFFSETTO:+0100
TZNAME:CET
DTSTART:20201025T010000
END:STANDARD
END:VTIMEZONE
BEGIN:VEVENT
DTSTART;TZID=Europe/Amsterdam:20190811T150000
DTEND;TZID=Europe/Amsterdam:20190811T183000
DTSTAMP:20260425T200903
CREATED:20181220T171217Z
LAST-MODIFIED:20181220T171319Z
UID:209300-1565535600-1565548200@volgderodeschoentjes.nu
SUMMARY:Aqua trekking Bolsena Italie
DESCRIPTION:Zondagmiddag – Aquatrekking.\nIedere zondagmiddag in juli en augustus. \nVolg de rode schoentjes en ga mee op “Aquatrekking”.\nEen leuke en frisse manier om de heuvelachtige omgeving\nrondom het meer van Bolsena te leren kennen.\nWe lopen op blote voeten of waterschoenen door het water.\nPuur natuur. Soms spannend\, maar met heel veel fun!\nBij de waterval kun je zwemmen of in het water springen. Superleuk. \nDeelname eigen risico.\nGids: Mariët Bloemendal.\nMeenemen van voldoende drinken en wat te eten.\nDenk aan bescherming tegen zon en badkleding.\nKosten vanmiddag: Kinderen € 15 p/p\nVanaf 18 jaar € 17\,50 p/p\nVerzamelen om 15.00 uur bij de grote parkeerplaats (markt) in Bolsena!
URL:https://volgderodeschoentjes.nu/agenda/aqua-trekking-bolsena-italie-3/
LOCATION:Bolsena\, Bolsena\, Italië
CATEGORIES:Zomeratelier,Evenement
ATTACH;FMTTYPE=image/jpeg:https://volgderodeschoentjes.nu/wp-content/uploads/2016/12/waterfal-volg-de-rode-schoentjes-e1543754052437.jpg
ORGANIZER;CN="Volgderodeschoentjes":MAILTO:info@volgderodeschoentjes.nu
END:VEVENT
BEGIN:VEVENT
DTSTART;TZID=Europe/Amsterdam:20190813T150000
DTEND;TZID=Europe/Amsterdam:20190813T193000
DTSTAMP:20260425T200903
CREATED:20181220T180753Z
LAST-MODIFIED:20181220T180933Z
UID:209333-1565708400-1565724600@volgderodeschoentjes.nu
SUMMARY:Kunst en beeldentuin Villa Lante Italie
DESCRIPTION:Vertrek 15.00 uur. Parkeerplaast Bolsena. \nVilla Lante ligt bij het dorpje Bagnaia.  Ontworpen door kardinaal Gambara\, die in plaats van bidden liever buiten was. Bijzondere tuin met mooie geometrische patronen en fonteinen. Gambara hield van de blauwe hemel. De groene weelde van struiken en planten. De verkoeling van een aangename wind tijdens de warme zomerse dagen en van uitgebreid dineren in de open lucht\nKosten: 35\,- p/p. Inclusief entree en vervoer.\nGids: Mariët Bloemendal
URL:https://volgderodeschoentjes.nu/agenda/kunst-en-beeldentuin-villa-lante-italie-2/
LOCATION:Bolsena\, Bolsena\, Italië
CATEGORIES:Zomeratelier,Artistiek
ATTACH;FMTTYPE=image/jpeg:https://volgderodeschoentjes.nu/wp-content/uploads/2018/12/Villa-Lante-Viterbo18.jpg
ORGANIZER;CN="Volgderodeschoentjes":MAILTO:info@volgderodeschoentjes.nu
END:VEVENT
BEGIN:VEVENT
DTSTART;TZID=Europe/Amsterdam:20190814T090000
DTEND;TZID=Europe/Amsterdam:20190814T153000
DTSTAMP:20260425T200903
CREATED:20181221T114657Z
LAST-MODIFIED:20181221T114949Z
UID:209353-1565773200-1565796600@volgderodeschoentjes.nu
SUMMARY:Wandel excursie Pitigliano Sovana
DESCRIPTION:Wandelen van Sovana naar Pitigliano en terug. \nData: 3\, 17 en 31`juli.  14 en 28 augustus.\nDuur: 5 a 5\,5 uur.\nVertrek: 09.00 uur Parkeerplaats Bolsena.\nKosten: € 35\,00 P/p inclusief vervoer.\nWandelbegeleiding: Mariët Bloemendal\nWe starten in het dorpje Sovana\, via de Etruskische necropool Folonia\, hebben we een mooi uitzicht op Sovana en de bergen daar achter. De wandeling gaat verder over oude Etruskische wegen\, met als hoogtepunt de via cava di San Giuseppe en een oeroude waterbron (fontein). Bezoeken onderweg Pitigliano. De oude\, van oorsprong Etruskische stad\, is een juweel met haar smalle straatjes\, fonteinen en poorten\, die trots op een rots troont. Lopen dan weer terug naar Sovana. \nDeelname eigen risico. \nMeenemen lunchpakket en voldoende drinken.\nGoede loopschoenen verplicht (denk aan bescherming tegen zon en regen)
URL:https://volgderodeschoentjes.nu/agenda/wandel-excursie-pitigliano-sovana-4/
LOCATION:Bolsena\, Bolsena\, Italië
CATEGORIES:Zomeratelier,Aktief
ATTACH;FMTTYPE=image/jpeg:https://volgderodeschoentjes.nu/wp-content/uploads/2016/12/Pitigliano.jpg
ORGANIZER;CN="Volgderodeschoentjes":MAILTO:info@volgderodeschoentjes.nu
END:VEVENT
BEGIN:VEVENT
DTSTART;TZID=Europe/Amsterdam:20190820T150000
DTEND;TZID=Europe/Amsterdam:20190820T200000
DTSTAMP:20260425T200903
CREATED:20181220T175817Z
LAST-MODIFIED:20181220T175945Z
UID:209328-1566313200-1566331200@volgderodeschoentjes.nu
SUMMARY:Excursie Kunst en beeldentuin La Serpara
DESCRIPTION:Dinsdag 9 en 30 juli en 20 augustus.\nVertrek 15.00 uur grote parkeer plaats Bolsena.\nIn de heuvels vlakbij civita di Bagnoregio ligt de bijzondere mooie beeldentuin in een oase van groen.\nOpgericht in 1997 door de Zwitserse kunstenaar en beeldhouwer Paul Wiedmer.\nIn het park (4 hectare) zijn ongeveer 80 werken te bezichtigen van 31 kunstenaars uit verschillende landen.\nEen mooie groene vallei waar het riviertje de Rio Chiaro door heen stroomt.\nIn deze bijzondere beeldentuin worden kunst en natuur in een fascinerend evenwicht samengevoegd\nKosten: 35\,- p/p. Inclusief entree en vervoer.\nGids: La Serpara
URL:https://volgderodeschoentjes.nu/agenda/excursie-kunst-en-beeldentuin-la-serpara-3/
LOCATION:Bolsena\, Bolsena\, Italië
CATEGORIES:Zomeratelier,Artistiek,Evenement
ATTACH;FMTTYPE=image/jpeg:https://volgderodeschoentjes.nu/wp-content/uploads/2018/03/kunst-en-beelden-tuin.jpg
ORGANIZER;CN="Volgderodeschoentjes":MAILTO:info@volgderodeschoentjes.nu
END:VEVENT
BEGIN:VEVENT
DTSTART;TZID=Europe/Amsterdam:20190828T090000
DTEND;TZID=Europe/Amsterdam:20190828T153000
DTSTAMP:20260425T200903
CREATED:20181221T114711Z
LAST-MODIFIED:20181221T115132Z
UID:209354-1566982800-1567006200@volgderodeschoentjes.nu
SUMMARY:Wandel excursie Pitigliano Sovana
DESCRIPTION:Wandelen van Sovana naar Pitigliano en terug. \nData: 3\, 17 en 31`juli.  14 en 28 augustus.\nDuur: 5 a 5\,5 uur.\nVertrek: 09.00 uur Parkeerplaats Bolsena.\nKosten: € 35\,00 P/p inclusief vervoer.\nWandelbegeleiding: Mariët Bloemendal\nWe starten in het dorpje Sovana\, via de Etruskische necropool Folonia\, hebben we een mooi uitzicht op Sovana en de bergen daar achter. De wandeling gaat verder over oude Etruskische wegen\, met als hoogtepunt de via cava di San Giuseppe en een oeroude waterbron (fontein). Bezoeken onderweg Pitigliano. De oude\, van oorsprong Etruskische stad\, is een juweel met haar smalle straatjes\, fonteinen en poorten\, die trots op een rots troont. Lopen dan weer terug naar Sovana. \nDeelname eigen risico. \nMeenemen lunchpakket en voldoende drinken.\nGoede loopschoenen verplicht (denk aan bescherming tegen zon en regen)
URL:https://volgderodeschoentjes.nu/agenda/wandel-excursie-pitigliano-sovana-5/
LOCATION:Bolsena\, Bolsena\, Italië
CATEGORIES:Zomeratelier,Aktief
ATTACH;FMTTYPE=image/jpeg:https://volgderodeschoentjes.nu/wp-content/uploads/2016/12/Via-Cave-VDRS-e1543754153945.jpg
ORGANIZER;CN="Volgderodeschoentjes":MAILTO:info@volgderodeschoentjes.nu
END:VEVENT
END:VCALENDAR