BEGIN:VCALENDAR
VERSION:2.0
PRODID:-//Volg de rode schoentjes - ECPv6.15.20//NONSGML v1.0//EN
CALSCALE:GREGORIAN
METHOD:PUBLISH
X-WR-CALNAME:Volg de rode schoentjes
X-ORIGINAL-URL:https://volgderodeschoentjes.nu/?lang=en
X-WR-CALDESC:Events for Volg de rode schoentjes
REFRESH-INTERVAL;VALUE=DURATION:PT1H
X-Robots-Tag:noindex
X-PUBLISHED-TTL:PT1H
BEGIN:VTIMEZONE
TZID:Europe/Amsterdam
BEGIN:DAYLIGHT
TZOFFSETFROM:+0100
TZOFFSETTO:+0200
TZNAME:CEST
DTSTART:20210328T010000
END:DAYLIGHT
BEGIN:STANDARD
TZOFFSETFROM:+0200
TZOFFSETTO:+0100
TZNAME:CET
DTSTART:20211031T010000
END:STANDARD
BEGIN:DAYLIGHT
TZOFFSETFROM:+0100
TZOFFSETTO:+0200
TZNAME:CEST
DTSTART:20220327T010000
END:DAYLIGHT
BEGIN:STANDARD
TZOFFSETFROM:+0200
TZOFFSETTO:+0100
TZNAME:CET
DTSTART:20221030T010000
END:STANDARD
BEGIN:DAYLIGHT
TZOFFSETFROM:+0100
TZOFFSETTO:+0200
TZNAME:CEST
DTSTART:20230326T010000
END:DAYLIGHT
BEGIN:STANDARD
TZOFFSETFROM:+0200
TZOFFSETTO:+0100
TZNAME:CET
DTSTART:20231029T010000
END:STANDARD
END:VTIMEZONE
BEGIN:VEVENT
DTSTART;TZID=Europe/Amsterdam:20220416T160000
DTEND;TZID=Europe/Amsterdam:20220423T100000
DTSTAMP:20260422T012840
CREATED:20210130T134230Z
LAST-MODIFIED:20210130T134237Z
UID:216884-1650124800-1650708000@volgderodeschoentjes.nu
SUMMARY:Vegetarian cooking holiday Italy.
DESCRIPTION:Italian vegetarian cooking holiday.\nTraditional and circular.\nAre you coming to discover the traditional vegetarian cuisine of the Italian nonna’s from the Alta-Tuscia? A cooking week where traditional recipes are interspersed with fantastic personal recipes from the circular kitchen of Fabiana Eremo. A journey of discovery for passionate gourmets and bon vivants with a passion for cooking.\nWe\, Mariët Bloemendal from Volg de Rode Schoentjes and Fabiana Eremo chef at her own home restaurant La Casa di Effe have set up a nice program. We are going to discover the traditional cuisine of the Alta Tuscia for two cooking days and two days on a voyage of discovery through the circular kitchen. Circular cooking means using the whole product; from kernel to peel. Central is respect for the environment\, animals and the life cycle of food\, without waste.\nFabiana’s creativity can be felt in her own kitchen and is reflected in her dishes. Everything with a creative sauce\, her dishes are an art. It is bound to be special! \nThe “Truffle hunt” during this week with Federico Spadoni and his truffle dog Arco. We will enjoy the truffles we have found during a great extensive lunch in the campagna. \nMore info:
URL:https://volgderodeschoentjes.nu/agenda/vegetarian-cooking-holiday-italy/?lang=en
LOCATION:Bolsena\, Bolsena\, Italië
ATTACH;FMTTYPE=image/jpeg:https://volgderodeschoentjes.nu/wp-content/uploads/2020/11/banner-veg-koken.jpg
ORGANIZER;CN="Volgderodeschoentjes":MAILTO:info@volgderodeschoentjes.nu
END:VEVENT
END:VCALENDAR