BEGIN:VCALENDAR
VERSION:2.0
PRODID:-//Volg de rode schoentjes - ECPv6.15.20//NONSGML v1.0//EN
CALSCALE:GREGORIAN
METHOD:PUBLISH
X-WR-CALNAME:Volg de rode schoentjes
X-ORIGINAL-URL:https://volgderodeschoentjes.nu/?lang=en
X-WR-CALDESC:Events for Volg de rode schoentjes
REFRESH-INTERVAL;VALUE=DURATION:PT1H
X-Robots-Tag:noindex
X-PUBLISHED-TTL:PT1H
BEGIN:VTIMEZONE
TZID:Europe/Amsterdam
BEGIN:DAYLIGHT
TZOFFSETFROM:+0100
TZOFFSETTO:+0200
TZNAME:CEST
DTSTART:20210328T010000
END:DAYLIGHT
BEGIN:STANDARD
TZOFFSETFROM:+0200
TZOFFSETTO:+0100
TZNAME:CET
DTSTART:20211031T010000
END:STANDARD
BEGIN:DAYLIGHT
TZOFFSETFROM:+0100
TZOFFSETTO:+0200
TZNAME:CEST
DTSTART:20220327T010000
END:DAYLIGHT
BEGIN:STANDARD
TZOFFSETFROM:+0200
TZOFFSETTO:+0100
TZNAME:CET
DTSTART:20221030T010000
END:STANDARD
BEGIN:DAYLIGHT
TZOFFSETFROM:+0100
TZOFFSETTO:+0200
TZNAME:CEST
DTSTART:20230326T010000
END:DAYLIGHT
BEGIN:STANDARD
TZOFFSETFROM:+0200
TZOFFSETTO:+0100
TZNAME:CET
DTSTART:20231029T010000
END:STANDARD
END:VTIMEZONE
BEGIN:VEVENT
DTSTART;TZID=Europe/Amsterdam:20220709T160000
DTEND;TZID=Europe/Amsterdam:20220718T170000
DTSTAMP:20260422T073544
CREATED:20210130T134727Z
LAST-MODIFIED:20210130T134728Z
UID:216890-1657382400-1658163600@volgderodeschoentjes.nu
SUMMARY:Stained glass and glass painting Italy
DESCRIPTION:Course stained glass and glass painting Italy.\nCan you feel it too? It’s time for your best holiday in Italy ever!\nHave you long dreamed of taking a craft course in stained glass and glass painting?\nTreat yourself to the very best of Italy with Volg de Rode Schoentjes.\nBecause this will be your best Italian holiday experience.\nTraveling solo on holiday\, but rather not being alone during your trip? Do you enjoy Italian art\, painting and history?\nWould you like to go on holiday together with a group of friendly and like-minded people in a casual atmosphere? \nWe\, Mariët Bloemendal from Volg de Rode Schoentjes and glass artist Diego Tolomelli\, are happy to take you on this relaxing course around the clean lake of Bolsena. If you are looking for an inspiring artisan holiday in Italy\, this week is cut out for you. More info:
URL:https://volgderodeschoentjes.nu/agenda/stained-glass-and-glass-painting-italy-2/?lang=en
LOCATION:Bolsena\, Bolsena\, Italië
ATTACH;FMTTYPE=image/jpeg:https://volgderodeschoentjes.nu/wp-content/uploads/2019/10/glas-banner.jpg
ORGANIZER;CN="Volgderodeschoentjes":MAILTO:info@volgderodeschoentjes.nu
END:VEVENT
END:VCALENDAR