BEGIN:VCALENDAR
VERSION:2.0
PRODID:-//Volg de rode schoentjes - ECPv6.15.20//NONSGML v1.0//EN
CALSCALE:GREGORIAN
METHOD:PUBLISH
X-WR-CALNAME:Volg de rode schoentjes
X-ORIGINAL-URL:https://volgderodeschoentjes.nu/?lang=en
X-WR-CALDESC:Events for Volg de rode schoentjes
REFRESH-INTERVAL;VALUE=DURATION:PT1H
X-Robots-Tag:noindex
X-PUBLISHED-TTL:PT1H
BEGIN:VTIMEZONE
TZID:Europe/Amsterdam
BEGIN:DAYLIGHT
TZOFFSETFROM:+0100
TZOFFSETTO:+0200
TZNAME:CEST
DTSTART:20200329T010000
END:DAYLIGHT
BEGIN:STANDARD
TZOFFSETFROM:+0200
TZOFFSETTO:+0100
TZNAME:CET
DTSTART:20201025T010000
END:STANDARD
BEGIN:DAYLIGHT
TZOFFSETFROM:+0100
TZOFFSETTO:+0200
TZNAME:CEST
DTSTART:20210328T010000
END:DAYLIGHT
BEGIN:STANDARD
TZOFFSETFROM:+0200
TZOFFSETTO:+0100
TZNAME:CET
DTSTART:20211031T010000
END:STANDARD
BEGIN:DAYLIGHT
TZOFFSETFROM:+0100
TZOFFSETTO:+0200
TZNAME:CEST
DTSTART:20220327T010000
END:DAYLIGHT
BEGIN:STANDARD
TZOFFSETFROM:+0200
TZOFFSETTO:+0100
TZNAME:CET
DTSTART:20221030T010000
END:STANDARD
END:VTIMEZONE
BEGIN:VEVENT
DTSTART;TZID=Europe/Amsterdam:20210626T160000
DTEND;TZID=Europe/Amsterdam:20210703T100000
DTSTAMP:20260423T024305
CREATED:20210130T134024Z
LAST-MODIFIED:20210130T134024Z
UID:216882-1624723200-1625306400@volgderodeschoentjes.nu
SUMMARY:Walking holiday chasing the Etruscans Italy
DESCRIPTION:“Chasing the Etruscans” in Italy\nEurope’s most beautiful cultural walking holiday.\nDiscover and experience the beautiful life of the Etruscans on this walking holiday with me\, Mariët Bloemendal of Volg de Rode Schoentjes. Where nature\, history and culture go hand in hand\, I cordially invite you to put on your walking shoes. Experience the best that central Italy has to offer. Visit the most extraordinary places with me that you would not visit alone. \n\nTraveling solo for a walking holiday\, but rather not be alone during your trip? Do you enjoy wonderful new encounters\, impressions and insights that you will never forget? Would you like to go on a walking holiday in a casual atmosphere with a group of friendly and like-minded people? Walk with us “chasing the Etruscans”. Beautiful walks lead you along and through sunken roads\, which have been carved into the hills in a spectacular manner. You walk past necropoli and tombs such as the “Tomba Ildebranda” at Sovana and several other tombs. All these cultural treasures lie in the unspoilt hilly landscape with its Mediterranean nature\, olive and vineyards\, walnut and fig trees. Beautifully situated tuff towns such as Pitigliano\, Sorano and Sovana are often the starting or finishing point of our walk. More info:
URL:https://volgderodeschoentjes.nu/agenda/walking-holiday-chasing-the-etruscans-italy-4/?lang=en
LOCATION:Bolsena\, Bolsena\, Italië
ORGANIZER;CN="Volgderodeschoentjes":MAILTO:info@volgderodeschoentjes.nu
END:VEVENT
END:VCALENDAR