BEGIN:VCALENDAR
VERSION:2.0
PRODID:-//Volg de rode schoentjes - ECPv6.15.20//NONSGML v1.0//EN
CALSCALE:GREGORIAN
METHOD:PUBLISH
X-ORIGINAL-URL:https://volgderodeschoentjes.nu
X-WR-CALDESC:Evenementen voor Volg de rode schoentjes
REFRESH-INTERVAL;VALUE=DURATION:PT1H
X-Robots-Tag:noindex
X-PUBLISHED-TTL:PT1H
BEGIN:VTIMEZONE
TZID:Europe/Amsterdam
BEGIN:DAYLIGHT
TZOFFSETFROM:+0100
TZOFFSETTO:+0200
TZNAME:CEST
DTSTART:20180325T010000
END:DAYLIGHT
BEGIN:STANDARD
TZOFFSETFROM:+0200
TZOFFSETTO:+0100
TZNAME:CET
DTSTART:20181028T010000
END:STANDARD
BEGIN:DAYLIGHT
TZOFFSETFROM:+0100
TZOFFSETTO:+0200
TZNAME:CEST
DTSTART:20190331T010000
END:DAYLIGHT
BEGIN:STANDARD
TZOFFSETFROM:+0200
TZOFFSETTO:+0100
TZNAME:CET
DTSTART:20191027T010000
END:STANDARD
BEGIN:DAYLIGHT
TZOFFSETFROM:+0100
TZOFFSETTO:+0200
TZNAME:CEST
DTSTART:20200329T010000
END:DAYLIGHT
BEGIN:STANDARD
TZOFFSETFROM:+0200
TZOFFSETTO:+0100
TZNAME:CET
DTSTART:20201025T010000
END:STANDARD
END:VTIMEZONE
BEGIN:VEVENT
DTSTART;TZID=Europe/Amsterdam:20190707T150000
DTEND;TZID=Europe/Amsterdam:20190707T183000
DTSTAMP:20260425T042055
CREATED:20181220T144054Z
LAST-MODIFIED:20190124T190344Z
UID:209289-1562511600-1562524200@volgderodeschoentjes.nu
SUMMARY:Zondagmiddag – Aquatrekking Italie
DESCRIPTION:Zondagmiddag – Aquatrekking Italie.\nIedere zondagmiddag tijdens ons zomeratelier in juli en augustus. \nVolg de rode schoentjes en ga mee op “Aquatrekking”.\nEen leuke en frisse manier om de heuvelachtige omgeving\nrondom het meer van Bolsena te leren kennen.\nWe lopen op blote voeten of waterschoenen door het water.\nPuur natuur. Soms spannend\, maar met heel veel fun!\nBij de waterval kun je zwemmen of in het water springen. Superleuk. \nDeelname eigen risico.\nGids: Mariët Bloemendal.\nMeenemen van voldoende drinken en wat te eten.\nDenk aan bescherming tegen zon en badkleding.\nKosten vanmiddag: Kinderen € 15 p/p\nVanaf 18 jaar € 17\,50 p/p\nVerzamelen om 15.00 uur bij de grote parkeerplaats (markt) in Bolsena!\n\n\n                \n\n                        \n                            Aanmelden dagexcursies Italië\n                             \n							"*" geeft vereiste velden aan \n                        \n                        EmailDit veld is bedoeld voor validatiedoeleinden en moet niet worden gewijzigd.Naam\n                            \n                            \n                                                    \n                                                    Voornaam\n                                                \n                            \n                            \n                                                    \n                                                    Achternaam\n                                                \n                            \n                        Telefoon*E-mailadres*\n                            \n                        Activiteit*Zondagmiddag – AquatrekkingMaandag - Wijnwandelen Sovan PitiglianoDinsdag – Stadswandeling Bolsena en lunch in onze olijfgaard Quattro Fratelli.Woensdag - Wandelen Vitozza SoranoWoensdag + Vrijdag - Truffels ZoekenDonderdag – Bomarzo le pyramida EtruscaDonderdag- Blind date in olijfgaard BolsenaVrijdag - Wandeling Civita di Bagnoregio en Valle dei CalanchiZaterdag – Wandeling HermitageZaterdag - Urban sketchingDinsdag - Zaterdag - Zondag - Yoga en MeditatiesessieKinderatelier maandag- en woensdagochtendKies hier de activiteit(en) van je keuzeWijnwandelen Sovan Pitigliano (iedere maandag zie link voor data) Aantal\n					\n					\n						Prijs:\n						€ 110\,00\n					\n					\n					 Aantal \n				 Klik hier voor alle info en dataAquatrekking (iedere zondag zie link voor data) Aantal\n					\n					\n						Prijs:\n						€ 40\,00\n					\n					\n					 Aantal \n				 Klik hier voor alle info en dataStadswandeling Bolsena en lunch in onze olijfgaard Quattro Fratelli Aantal\n					\n					\n						Prijs:\n						€ 85\,00\n					\n					\n					 Aantal \n				Volwassenen  Klik hier voor alle info en dataStadswandeling Bolsena en lunch in onze olijfgaard Quattro Fratelli Aantal\n					\n					\n						Prijs:\n						€ 30\,00\n					\n					\n					 Aantal \n				Kinderen tot 15 jaar  Klik hier voor alle info en dataTruffels zoeken (woensdag en vrijdag zie link voor data) Aantal\n					\n					\n						Prijs:\n						€ 115\,00\n					\n					\n					 Aantal \n				 Klik hier voor alle info en dataWandeldag sorano  (woensdag: zie link voor data) Aantal\n					\n					\n						Prijs:\n						€ 65\,00\n					\n					\n					 Aantal \n				1 tm 3 personen:\n Klik hier voor alle info en dataWandeldag sorano  (woensdag: zie link voor data) Aantal\n					\n					\n						Prijs:\n						€ 60\,00\n					\n					\n					 Aantal \n				4-6 personen groepskorting:\n Klik hier voor alle info en dataWandeldag sorano  (woensdag: zie link voor data) Aantal\n					\n					\n						Prijs:\n						€ 55\,00\n					\n					\n					 Aantal \n				7 of meer personen groepskorting\n Klik hier voor alle info en dataSchilderworkshop olijfgaard Bolsena  (donderdag: zie link voor data)Prijs voor 1 persoon Klik hier voor alle info en data\n					\n					\n						Prijs:\n						\n					\n					\n				Schilderworkshop olijfgaard Bolsena  (donderdag: zie link voor data) AantalBoek met een vriend of vriendin (korting bij 2 -4 personen)\n Klik hier voor alle info en data\n					\n					\n						Prijs:\n						€ 145\,00\n					\n					\n					 Aantal \n				Schilderworkshop olijfgaard Bolsena  (donderdag: zie link voor data) AantalGroepen van 4 personen of meer krijgen 15% korting: \n Klik hier voor alle info en data\n					\n					\n						Prijs:\n						€ 131\,75\n					\n					\n					 Aantal \n				Wandelen Le Pyramida Etrusca Bomarzo  (donderdag: zie link voor data) AantalPrijs voor 1 t/m 3 personen  Klik hier voor alle info en data\n					\n					\n						Prijs:\n						€ 75\,00\n					\n					\n					 Aantal \n				Wandelen Le Pyramida Etrusca Bomarzo  (donderdag: zie link voor data) AantalPrijs voor 4-6 personen  Klik hier voor alle info en data\n					\n					\n						Prijs:\n						€ 65\,00\n					\n					\n					 Aantal \n				Wandelen Le Pyramida Etrusca Bomarzo  (donderdag: zie link voor data) AantalPrijs voor 7 personen of meer  Klik hier voor alle info en data\n					\n					\n						Prijs:\n						€ 55\,00\n					\n					\n					 Aantal \n				Civita di Bagnoregio en Ecowine Experience wijnhuis Tre Botti (vrijdag: zie link voor data) AantalPrijs voor 1 t/m 7 personen  Klik hier voor alle info en data\n					\n					\n						Prijs:\n						€ 110\,00\n					\n					\n					 Aantal \n				Civita di Bagnoregio en Ecowine Experience wijnhuis Tre Botti (vrijdag: zie link voor data) AantalGroepskorting vanaf 8 personen  Klik hier voor alle info en data\n					\n					\n						Prijs:\n						€ 95\,00\n					\n					\n					 Aantal \n				Exclusieve Urban Sketching Workshop in Bolsena (zaterdag: zie link voor data) AantalPrijs voor 1 of 2 personen  Klik hier voor alle info en data\n					\n					\n						Prijs:\n						€ 135\,00\n					\n					\n					 Aantal \n				Exclusieve Urban Sketching Workshop in Bolsena (zaterdag: zie link voor data) AantalGroepskorting 3 personen of meer  Klik hier voor alle info en data\n					\n					\n						Prijs:\n						€ 121\,50\n					\n					\n					 Aantal \n				Wandeling Hermitage en kluizenaarsgrot (zaterdag: zie link voor data) AantalPrijs voor 1 t/m 3 personen  Klik hier voor alle info en data\n					\n					\n						Prijs:\n						€ 45\,00\n					\n					\n					 Aantal \n				Kinderatelier Bolsena Iedere maandag- en woensdagochtend (van juli tot oktober: zie link voor data) Aantal Klik hier voor alle info en data\nKosten incl. materiaal en een drankje 30\,- P/k\nLeeftijd vanaf 6 jaar\n					\n					\n						Prijs:\n						€ 30\,00\n					\n					\n					 Aantal \n				Yoga- en Meditatiesessie  (zondag\, dinsdag\, zaterdag: zie link voor data) Aantal Klik hier voor alle info en data\n					\n					\n						Prijs:\n						€ 40\,00\n					\n					\n					 Aantal \n				Yoga- en Meditatiesessie  (zondag\, dinsdag\, zaterdag: zie link voor data)3 sessies  Klik hier voor alle info en data\nVul hierna 3 dagen in!\n					\n					\n						Prijs:\n						\n					\n					\n				1e datum keuzeWanneer ben je in Italië?\nWil je aangeven voor welke datum je de activiteit wilt boeken? \n                            \n                            MM slash DD slash JJJJ\n                        \n                        2e datum keuzeAls mijn eerste keuze niet beschikbaar is kan ik ook op:*\n\nBij 3 yogasessies vul je de 2e datum hier in*\n\n                            \n                            MM slash DD slash JJJJ\n                        \n                        3e datum keuzeAls mijn keuze niet beschikbaar is kan ik ook op:\n\n*Bij 3 yogasessies vul je de 3e datum hier in*\n                            \n                            MM slash DD slash JJJJ\n                        \n                        LijstKies je meerdere excursies vul dan hier de excursies en de gewenste data in.ExcursieExcursieExcursie    Toevoegen   VerwijderTotaal\n							\n						BetaalmethodeiDEAL | Wero\n                                    American ExpressMasterCardVisaOndersteunde creditcards: American Express\, MasterCard\, Visa\n                                    \n                                    Kaartnummer\n                                 \n                                            \n                                                \n                                                Vervaldatum\n                                            \n                                                \n                                                 \n                                                Beveiligingscode\n                                             \n                                        \n                                            \n                                            Naam kaarthouder\n                                         \n          \n            \n            \n            \n            \n            \n            \n            \n            \n            \n            \n            \n            \n            \n        \n                        Δ
URL:https://volgderodeschoentjes.nu/agenda/zondagmiddag-aquatrekking/
LOCATION:Bolsena\, Bolsena\, Italië
CATEGORIES:Zomeratelier,Evenement
ATTACH;FMTTYPE=image/jpeg:https://volgderodeschoentjes.nu/wp-content/uploads/2016/12/waterfal-volg-de-rode-schoentjes-e1543754052437.jpg
ORGANIZER;CN="Volgderodeschoentjes":MAILTO:info@volgderodeschoentjes.nu
END:VEVENT
BEGIN:VEVENT
DTSTART;TZID=Europe/Amsterdam:20190703T090000
DTEND;TZID=Europe/Amsterdam:20190703T153000
DTSTAMP:20260425T042056
CREATED:20181221T114258Z
LAST-MODIFIED:20190207T150436Z
UID:209348-1562144400-1562167800@volgderodeschoentjes.nu
SUMMARY:Wandel excursie Pitigliano Sovana
DESCRIPTION:Wandelexcursie:Sovana naar Pitigliano en terug. \nData: 3\, 17 en 31`juli.  14 en 28 augustus.\nDuur: 5 a 5\,5 uur.\nVertrek: 09.00 uur Parkeerplaats Bolsena.\nKosten: € 35\,00 P/p inclusief vervoer.\nWandelbegeleiding: Mariët Bloemendal\nWe starten in het dorpje Sovana\, via de Etruskische necropool Folonia\, hebben we een mooi uitzicht op Sovana en de bergen daar achter. De wandeling gaat verder over oude Etruskische wegen\, met als hoogtepunt de via cava di San Giuseppe en een oeroude waterbron (fontein). Bezoeken onderweg Pitigliano. De oude\, van oorsprong Etruskische stad\, is een juweel met haar smalle straatjes\, fonteinen en poorten\, die trots op een rots troont. Lopen dan weer terug naar Sovana. \nDeelname eigen risico. \nMeenemen lunchpakket en voldoende drinken.\nGoede loopschoenen verplicht (denk aan bescherming tegen zon en regen)\n\n                \n\n                        \n                            Aanmelden dagexcursies Italië\n                             \n							"*" geeft vereiste velden aan \n                        \n                        InstagramDit veld is bedoeld voor validatiedoeleinden en moet niet worden gewijzigd.Naam\n                            \n                            \n                                                    \n                                                    Voornaam\n                                                \n                            \n                            \n                                                    \n                                                    Achternaam\n                                                \n                            \n                        Telefoon*E-mailadres*\n                            \n                        Activiteit*Zondagmiddag – AquatrekkingMaandag - Wijnwandelen Sovan PitiglianoDinsdag – Stadswandeling Bolsena en lunch in onze olijfgaard Quattro Fratelli.Woensdag - Wandelen Vitozza SoranoWoensdag + Vrijdag - Truffels ZoekenDonderdag – Bomarzo le pyramida EtruscaDonderdag- Blind date in olijfgaard BolsenaVrijdag - Wandeling Civita di Bagnoregio en Valle dei CalanchiZaterdag – Wandeling HermitageZaterdag - Urban sketchingDinsdag - Zaterdag - Zondag - Yoga en MeditatiesessieKinderatelier maandag- en woensdagochtendKies hier de activiteit(en) van je keuzeWijnwandelen Sovan Pitigliano (iedere maandag zie link voor data) Aantal\n					\n					\n						Prijs:\n						€ 110\,00\n					\n					\n					 Aantal \n				 Klik hier voor alle info en dataAquatrekking (iedere zondag zie link voor data) Aantal\n					\n					\n						Prijs:\n						€ 40\,00\n					\n					\n					 Aantal \n				 Klik hier voor alle info en dataStadswandeling Bolsena en lunch in onze olijfgaard Quattro Fratelli Aantal\n					\n					\n						Prijs:\n						€ 85\,00\n					\n					\n					 Aantal \n				Volwassenen  Klik hier voor alle info en dataStadswandeling Bolsena en lunch in onze olijfgaard Quattro Fratelli Aantal\n					\n					\n						Prijs:\n						€ 30\,00\n					\n					\n					 Aantal \n				Kinderen tot 15 jaar  Klik hier voor alle info en dataTruffels zoeken (woensdag en vrijdag zie link voor data) Aantal\n					\n					\n						Prijs:\n						€ 115\,00\n					\n					\n					 Aantal \n				 Klik hier voor alle info en dataWandeldag sorano  (woensdag: zie link voor data) Aantal\n					\n					\n						Prijs:\n						€ 65\,00\n					\n					\n					 Aantal \n				1 tm 3 personen:\n Klik hier voor alle info en dataWandeldag sorano  (woensdag: zie link voor data) Aantal\n					\n					\n						Prijs:\n						€ 60\,00\n					\n					\n					 Aantal \n				4-6 personen groepskorting:\n Klik hier voor alle info en dataWandeldag sorano  (woensdag: zie link voor data) Aantal\n					\n					\n						Prijs:\n						€ 55\,00\n					\n					\n					 Aantal \n				7 of meer personen groepskorting\n Klik hier voor alle info en dataSchilderworkshop olijfgaard Bolsena  (donderdag: zie link voor data)Prijs voor 1 persoon Klik hier voor alle info en data\n					\n					\n						Prijs:\n						\n					\n					\n				Schilderworkshop olijfgaard Bolsena  (donderdag: zie link voor data) AantalBoek met een vriend of vriendin (korting bij 2 -4 personen)\n Klik hier voor alle info en data\n					\n					\n						Prijs:\n						€ 145\,00\n					\n					\n					 Aantal \n				Schilderworkshop olijfgaard Bolsena  (donderdag: zie link voor data) AantalGroepen van 4 personen of meer krijgen 15% korting: \n Klik hier voor alle info en data\n					\n					\n						Prijs:\n						€ 131\,75\n					\n					\n					 Aantal \n				Wandelen Le Pyramida Etrusca Bomarzo  (donderdag: zie link voor data) AantalPrijs voor 1 t/m 3 personen  Klik hier voor alle info en data\n					\n					\n						Prijs:\n						€ 75\,00\n					\n					\n					 Aantal \n				Wandelen Le Pyramida Etrusca Bomarzo  (donderdag: zie link voor data) AantalPrijs voor 4-6 personen  Klik hier voor alle info en data\n					\n					\n						Prijs:\n						€ 65\,00\n					\n					\n					 Aantal \n				Wandelen Le Pyramida Etrusca Bomarzo  (donderdag: zie link voor data) AantalPrijs voor 7 personen of meer  Klik hier voor alle info en data\n					\n					\n						Prijs:\n						€ 55\,00\n					\n					\n					 Aantal \n				Civita di Bagnoregio en Ecowine Experience wijnhuis Tre Botti (vrijdag: zie link voor data) AantalPrijs voor 1 t/m 7 personen  Klik hier voor alle info en data\n					\n					\n						Prijs:\n						€ 110\,00\n					\n					\n					 Aantal \n				Civita di Bagnoregio en Ecowine Experience wijnhuis Tre Botti (vrijdag: zie link voor data) AantalGroepskorting vanaf 8 personen  Klik hier voor alle info en data\n					\n					\n						Prijs:\n						€ 95\,00\n					\n					\n					 Aantal \n				Exclusieve Urban Sketching Workshop in Bolsena (zaterdag: zie link voor data) AantalPrijs voor 1 of 2 personen  Klik hier voor alle info en data\n					\n					\n						Prijs:\n						€ 135\,00\n					\n					\n					 Aantal \n				Exclusieve Urban Sketching Workshop in Bolsena (zaterdag: zie link voor data) AantalGroepskorting 3 personen of meer  Klik hier voor alle info en data\n					\n					\n						Prijs:\n						€ 121\,50\n					\n					\n					 Aantal \n				Wandeling Hermitage en kluizenaarsgrot (zaterdag: zie link voor data) AantalPrijs voor 1 t/m 3 personen  Klik hier voor alle info en data\n					\n					\n						Prijs:\n						€ 45\,00\n					\n					\n					 Aantal \n				Kinderatelier Bolsena Iedere maandag- en woensdagochtend (van juli tot oktober: zie link voor data) Aantal Klik hier voor alle info en data\nKosten incl. materiaal en een drankje 30\,- P/k\nLeeftijd vanaf 6 jaar\n					\n					\n						Prijs:\n						€ 30\,00\n					\n					\n					 Aantal \n				Yoga- en Meditatiesessie  (zondag\, dinsdag\, zaterdag: zie link voor data) Aantal Klik hier voor alle info en data\n					\n					\n						Prijs:\n						€ 40\,00\n					\n					\n					 Aantal \n				Yoga- en Meditatiesessie  (zondag\, dinsdag\, zaterdag: zie link voor data)3 sessies  Klik hier voor alle info en data\nVul hierna 3 dagen in!\n					\n					\n						Prijs:\n						\n					\n					\n				1e datum keuzeWanneer ben je in Italië?\nWil je aangeven voor welke datum je de activiteit wilt boeken? \n                            \n                            MM slash DD slash JJJJ\n                        \n                        2e datum keuzeAls mijn eerste keuze niet beschikbaar is kan ik ook op:*\n\nBij 3 yogasessies vul je de 2e datum hier in*\n\n                            \n                            MM slash DD slash JJJJ\n                        \n                        3e datum keuzeAls mijn keuze niet beschikbaar is kan ik ook op:\n\n*Bij 3 yogasessies vul je de 3e datum hier in*\n                            \n                            MM slash DD slash JJJJ\n                        \n                        LijstKies je meerdere excursies vul dan hier de excursies en de gewenste data in.ExcursieExcursieExcursie    Toevoegen   VerwijderTotaal\n							\n						BetaalmethodeiDEAL | Wero\n                                    American ExpressMasterCardVisaOndersteunde creditcards: American Express\, MasterCard\, Visa\n                                    \n                                    Kaartnummer\n                                 \n                                            \n                                                \n                                                Vervaldatum\n                                            \n                                                \n                                                 \n                                                Beveiligingscode\n                                             \n                                        \n                                            \n                                            Naam kaarthouder\n                                         \n          \n            \n            \n            \n            \n            \n            \n            \n            \n            \n            \n            \n            \n            \n        \n                        Δ
URL:https://volgderodeschoentjes.nu/agenda/wandel-excursie-pitigliano-sovana/
LOCATION:Bolsena\, Bolsena\, Italië
CATEGORIES:Zomeratelier,Aktief
ATTACH;FMTTYPE=image/jpeg:https://volgderodeschoentjes.nu/wp-content/uploads/2016/12/Via-Cave-VDRS-e1543754153945.jpg
ORGANIZER;CN="Volgderodeschoentjes":MAILTO:info@volgderodeschoentjes.nu
END:VEVENT
BEGIN:VEVENT
DTSTART;TZID=Europe/Amsterdam:20190701T150000
DTEND;TZID=Europe/Amsterdam:20190701T193000
DTSTAMP:20260425T042056
CREATED:20181220T172444Z
LAST-MODIFIED:20190207T145739Z
UID:209306-1561993200-1562009400@volgderodeschoentjes.nu
SUMMARY:Wijn wandeldag Italie
DESCRIPTION:Data: 1\, 15  en 29  juli. 12  en 26 augustus 2019.\nDuur: 3 – 4 uur.\nVertrek: 15.00 uur. Parkeerplaats Bolsena.\nKosten: € 35\,-  P/p inclusief vervoer.\nWandelbegeleiding Mariët Bloemendal.\nAan Sassotondo ( wijnhuis) 15\,- p/p voor rondleiding en proeverij.\nVolg de rode schoentjes vanmiddag tijdens onze wijn wandeling.\nIn de voetsporen van wijngod Bacchus gaan we van start in Sovana.\nWe volgen oude Etruskische wegen op weg naar ons favoriete biologische wijnhuis Sassotondo.\nHier gaan we genieten van biologische topwijnen. Mmmm \nVoor alle wandelingen:\nDeelname eigen risico.\nMeenemen lunchpakket en voldoende drinken.\nGoede loopschoenen verplicht (denk aan bescherming tegen zon en regen) \n\n                \n\n                        \n                            Aanmelden dagexcursies Italië\n                             \n							"*" geeft vereiste velden aan \n                        \n                        NameDit veld is bedoeld voor validatiedoeleinden en moet niet worden gewijzigd.Naam\n                            \n                            \n                                                    \n                                                    Voornaam\n                                                \n                            \n                            \n                                                    \n                                                    Achternaam\n                                                \n                            \n                        Telefoon*E-mailadres*\n                            \n                        Activiteit*Zondagmiddag – AquatrekkingMaandag - Wijnwandelen Sovan PitiglianoDinsdag – Stadswandeling Bolsena en lunch in onze olijfgaard Quattro Fratelli.Woensdag - Wandelen Vitozza SoranoWoensdag + Vrijdag - Truffels ZoekenDonderdag – Bomarzo le pyramida EtruscaDonderdag- Blind date in olijfgaard BolsenaVrijdag - Wandeling Civita di Bagnoregio en Valle dei CalanchiZaterdag – Wandeling HermitageZaterdag - Urban sketchingDinsdag - Zaterdag - Zondag - Yoga en MeditatiesessieKinderatelier maandag- en woensdagochtendKies hier de activiteit(en) van je keuzeWijnwandelen Sovan Pitigliano (iedere maandag zie link voor data) Aantal\n					\n					\n						Prijs:\n						€ 110\,00\n					\n					\n					 Aantal \n				 Klik hier voor alle info en dataAquatrekking (iedere zondag zie link voor data) Aantal\n					\n					\n						Prijs:\n						€ 40\,00\n					\n					\n					 Aantal \n				 Klik hier voor alle info en dataStadswandeling Bolsena en lunch in onze olijfgaard Quattro Fratelli Aantal\n					\n					\n						Prijs:\n						€ 85\,00\n					\n					\n					 Aantal \n				Volwassenen  Klik hier voor alle info en dataStadswandeling Bolsena en lunch in onze olijfgaard Quattro Fratelli Aantal\n					\n					\n						Prijs:\n						€ 30\,00\n					\n					\n					 Aantal \n				Kinderen tot 15 jaar  Klik hier voor alle info en dataTruffels zoeken (woensdag en vrijdag zie link voor data) Aantal\n					\n					\n						Prijs:\n						€ 115\,00\n					\n					\n					 Aantal \n				 Klik hier voor alle info en dataWandeldag sorano  (woensdag: zie link voor data) Aantal\n					\n					\n						Prijs:\n						€ 65\,00\n					\n					\n					 Aantal \n				1 tm 3 personen:\n Klik hier voor alle info en dataWandeldag sorano  (woensdag: zie link voor data) Aantal\n					\n					\n						Prijs:\n						€ 60\,00\n					\n					\n					 Aantal \n				4-6 personen groepskorting:\n Klik hier voor alle info en dataWandeldag sorano  (woensdag: zie link voor data) Aantal\n					\n					\n						Prijs:\n						€ 55\,00\n					\n					\n					 Aantal \n				7 of meer personen groepskorting\n Klik hier voor alle info en dataSchilderworkshop olijfgaard Bolsena  (donderdag: zie link voor data)Prijs voor 1 persoon Klik hier voor alle info en data\n					\n					\n						Prijs:\n						\n					\n					\n				Schilderworkshop olijfgaard Bolsena  (donderdag: zie link voor data) AantalBoek met een vriend of vriendin (korting bij 2 -4 personen)\n Klik hier voor alle info en data\n					\n					\n						Prijs:\n						€ 145\,00\n					\n					\n					 Aantal \n				Schilderworkshop olijfgaard Bolsena  (donderdag: zie link voor data) AantalGroepen van 4 personen of meer krijgen 15% korting: \n Klik hier voor alle info en data\n					\n					\n						Prijs:\n						€ 131\,75\n					\n					\n					 Aantal \n				Wandelen Le Pyramida Etrusca Bomarzo  (donderdag: zie link voor data) AantalPrijs voor 1 t/m 3 personen  Klik hier voor alle info en data\n					\n					\n						Prijs:\n						€ 75\,00\n					\n					\n					 Aantal \n				Wandelen Le Pyramida Etrusca Bomarzo  (donderdag: zie link voor data) AantalPrijs voor 4-6 personen  Klik hier voor alle info en data\n					\n					\n						Prijs:\n						€ 65\,00\n					\n					\n					 Aantal \n				Wandelen Le Pyramida Etrusca Bomarzo  (donderdag: zie link voor data) AantalPrijs voor 7 personen of meer  Klik hier voor alle info en data\n					\n					\n						Prijs:\n						€ 55\,00\n					\n					\n					 Aantal \n				Civita di Bagnoregio en Ecowine Experience wijnhuis Tre Botti (vrijdag: zie link voor data) AantalPrijs voor 1 t/m 7 personen  Klik hier voor alle info en data\n					\n					\n						Prijs:\n						€ 110\,00\n					\n					\n					 Aantal \n				Civita di Bagnoregio en Ecowine Experience wijnhuis Tre Botti (vrijdag: zie link voor data) AantalGroepskorting vanaf 8 personen  Klik hier voor alle info en data\n					\n					\n						Prijs:\n						€ 95\,00\n					\n					\n					 Aantal \n				Exclusieve Urban Sketching Workshop in Bolsena (zaterdag: zie link voor data) AantalPrijs voor 1 of 2 personen  Klik hier voor alle info en data\n					\n					\n						Prijs:\n						€ 135\,00\n					\n					\n					 Aantal \n				Exclusieve Urban Sketching Workshop in Bolsena (zaterdag: zie link voor data) AantalGroepskorting 3 personen of meer  Klik hier voor alle info en data\n					\n					\n						Prijs:\n						€ 121\,50\n					\n					\n					 Aantal \n				Wandeling Hermitage en kluizenaarsgrot (zaterdag: zie link voor data) AantalPrijs voor 1 t/m 3 personen  Klik hier voor alle info en data\n					\n					\n						Prijs:\n						€ 45\,00\n					\n					\n					 Aantal \n				Kinderatelier Bolsena Iedere maandag- en woensdagochtend (van juli tot oktober: zie link voor data) Aantal Klik hier voor alle info en data\nKosten incl. materiaal en een drankje 30\,- P/k\nLeeftijd vanaf 6 jaar\n					\n					\n						Prijs:\n						€ 30\,00\n					\n					\n					 Aantal \n				Yoga- en Meditatiesessie  (zondag\, dinsdag\, zaterdag: zie link voor data) Aantal Klik hier voor alle info en data\n					\n					\n						Prijs:\n						€ 40\,00\n					\n					\n					 Aantal \n				Yoga- en Meditatiesessie  (zondag\, dinsdag\, zaterdag: zie link voor data)3 sessies  Klik hier voor alle info en data\nVul hierna 3 dagen in!\n					\n					\n						Prijs:\n						\n					\n					\n				1e datum keuzeWanneer ben je in Italië?\nWil je aangeven voor welke datum je de activiteit wilt boeken? \n                            \n                            MM slash DD slash JJJJ\n                        \n                        2e datum keuzeAls mijn eerste keuze niet beschikbaar is kan ik ook op:*\n\nBij 3 yogasessies vul je de 2e datum hier in*\n\n                            \n                            MM slash DD slash JJJJ\n                        \n                        3e datum keuzeAls mijn keuze niet beschikbaar is kan ik ook op:\n\n*Bij 3 yogasessies vul je de 3e datum hier in*\n                            \n                            MM slash DD slash JJJJ\n                        \n                        LijstKies je meerdere excursies vul dan hier de excursies en de gewenste data in.ExcursieExcursieExcursie    Toevoegen   VerwijderTotaal\n							\n						BetaalmethodeiDEAL | Wero\n                                    American ExpressMasterCardVisaOndersteunde creditcards: American Express\, MasterCard\, Visa\n                                    \n                                    Kaartnummer\n                                 \n                                            \n                                                \n                                                Vervaldatum\n                                            \n                                                \n                                                 \n                                                Beveiligingscode\n                                             \n                                        \n                                            \n                                            Naam kaarthouder\n                                         \n          \n            \n            \n            \n            \n            \n            \n            \n            \n            \n            \n            \n            \n            \n        \n                        Δ
URL:https://volgderodeschoentjes.nu/agenda/wijn-wandeldag-italie/
LOCATION:Bolsena\, Bolsena\, Italië
CATEGORIES:Zomeratelier,Evenement,wijnproeverij
ATTACH;FMTTYPE=image/jpeg:https://volgderodeschoentjes.nu/wp-content/uploads/2016/12/vatten-sassotondo-1.jpg
ORGANIZER;CN="Volgderodeschoentjes":MAILTO:info@volgderodeschoentjes.nu
END:VEVENT
END:VCALENDAR